
BEGIN:VCALENDAR
VERSION:2.0
PRODID:-//Fond du Lac Tribal and Community College - ECPv6.15.20//NONSGML v1.0//EN
CALSCALE:GREGORIAN
METHOD:PUBLISH
X-ORIGINAL-URL:https://fdltcc.edu
X-WR-CALDESC:Events for Fond du Lac Tribal and Community College
REFRESH-INTERVAL;VALUE=DURATION:PT1H
X-Robots-Tag:noindex
X-PUBLISHED-TTL:PT1H
BEGIN:VTIMEZONE
TZID:America/Chicago
BEGIN:DAYLIGHT
TZOFFSETFROM:-0600
TZOFFSETTO:-0500
TZNAME:CDT
DTSTART:20230312T080000
END:DAYLIGHT
BEGIN:STANDARD
TZOFFSETFROM:-0500
TZOFFSETTO:-0600
TZNAME:CST
DTSTART:20231105T070000
END:STANDARD
BEGIN:DAYLIGHT
TZOFFSETFROM:-0600
TZOFFSETTO:-0500
TZNAME:CDT
DTSTART:20240310T080000
END:DAYLIGHT
BEGIN:STANDARD
TZOFFSETFROM:-0500
TZOFFSETTO:-0600
TZNAME:CST
DTSTART:20241103T070000
END:STANDARD
BEGIN:DAYLIGHT
TZOFFSETFROM:-0600
TZOFFSETTO:-0500
TZNAME:CDT
DTSTART:20250309T080000
END:DAYLIGHT
BEGIN:STANDARD
TZOFFSETFROM:-0500
TZOFFSETTO:-0600
TZNAME:CST
DTSTART:20251102T070000
END:STANDARD
END:VTIMEZONE
BEGIN:VEVENT
DTSTART;TZID=America/Chicago:20240409T150000
DTEND;TZID=America/Chicago:20240409T160000
DTSTAMP:20260423T062000
CREATED:20240328T191149Z
LAST-MODIFIED:20240328T191149Z
UID:10000316-1712674800-1712678400@fdltcc.edu
SUMMARY:Forest Carnivores\, Flying Squirrels\, and Fungus: Wildlife in a Changing World
DESCRIPTION:Join us for this great event with\, Michael Joyce\, Wildlife Ecologist. \nEvent Name: Forest carnivores\, flying squirrels\, and fungus: Wildlife in a changing world. \nSpeaker: Michael Joyce\, Wildlife Ecologist\nNatural Resources Research Institute (NRRI)\nUniversity of Minnesota Duluth \nMichael will discuss adapting to a changing world in a broad sense\, covering his experience as a wildlife biologist and using it as a theme to highlight several ongoing projects. This talk will be followed by a 30-minute outdoor radiotelemetry demo. \nDate: April 9th\nTime: 3 p.m.\nFDLTCC Commons
URL:https://fdltcc.edu/event/forest-carnivores-flying-squirrels-and-fungus-wildlife-in-a-changing-world/
LOCATION:Fond du Lac Tribal and Community College\, 2101 14th Street\, Cloquet\, MN\, 55720\, United States
ORGANIZER;CN="Fond du Lac Tribal and Community College":MAILTO:taylor.warnes@fdltcc.edu
END:VEVENT
END:VCALENDAR