
BEGIN:VCALENDAR
VERSION:2.0
PRODID:-//Fond du Lac Tribal and Community College - ECPv6.15.20//NONSGML v1.0//EN
CALSCALE:GREGORIAN
METHOD:PUBLISH
X-WR-CALNAME:Fond du Lac Tribal and Community College
X-ORIGINAL-URL:https://fdltcc.edu
X-WR-CALDESC:Events for Fond du Lac Tribal and Community College
REFRESH-INTERVAL;VALUE=DURATION:PT1H
X-Robots-Tag:noindex
X-PUBLISHED-TTL:PT1H
BEGIN:VTIMEZONE
TZID:America/Chicago
BEGIN:DAYLIGHT
TZOFFSETFROM:-0600
TZOFFSETTO:-0500
TZNAME:CDT
DTSTART:20230312T080000
END:DAYLIGHT
BEGIN:STANDARD
TZOFFSETFROM:-0500
TZOFFSETTO:-0600
TZNAME:CST
DTSTART:20231105T070000
END:STANDARD
BEGIN:DAYLIGHT
TZOFFSETFROM:-0600
TZOFFSETTO:-0500
TZNAME:CDT
DTSTART:20240310T080000
END:DAYLIGHT
BEGIN:STANDARD
TZOFFSETFROM:-0500
TZOFFSETTO:-0600
TZNAME:CST
DTSTART:20241103T070000
END:STANDARD
BEGIN:DAYLIGHT
TZOFFSETFROM:-0600
TZOFFSETTO:-0500
TZNAME:CDT
DTSTART:20250309T080000
END:DAYLIGHT
BEGIN:STANDARD
TZOFFSETFROM:-0500
TZOFFSETTO:-0600
TZNAME:CST
DTSTART:20251102T070000
END:STANDARD
END:VTIMEZONE
BEGIN:VEVENT
DTSTART;TZID=America/Chicago:20240624T080000
DTEND;TZID=America/Chicago:20240628T170000
DTSTAMP:20260423T094153
CREATED:20240621T155446Z
LAST-MODIFIED:20240621T155446Z
UID:10000325-1719216000-1719594000@fdltcc.edu
SUMMARY:Minnesota State Week 2024
DESCRIPTION:Join us for Minnesota State week at FDLTCC! \n\nLearn about our spectacular campus\nApply for admission at no cost\, it’s FREE!\nRegister for classes and get the best schedule you want\nStart your FAFSA and learn about financial aid\nMeet our Disabilities Services coordinator\nLearn about campus housing\nGet questions answered\n\nIn-person and virtual tours are available to individuals or small groups. Make your reservation with Josh at 218-879-0817 or jcleveland*AT*fdltcc.edu. \nLearn more about Minnesota State Week at FDLTCC
URL:https://fdltcc.edu/event/minnesota-state-week-june-2024/
LOCATION:Fond du Lac Tribal and Community College\, 2101 14th Street\, Cloquet\, MN\, 55720\, United States
ORGANIZER;CN="Fond du Lac Tribal and Community College":MAILTO:taylor.warnes@fdltcc.edu
END:VEVENT
BEGIN:VEVENT
DTSTART;TZID=America/Chicago:20240628T130000
DTEND;TZID=America/Chicago:20240628T150000
DTSTAMP:20260423T094153
CREATED:20240624T161154Z
LAST-MODIFIED:20240624T180542Z
UID:10000327-1719579600-1719586800@fdltcc.edu
SUMMARY:Law Enforcement Skill Program Commencement Exercises
DESCRIPTION:Join us as we celebrate the commencement exercises for the FDLTCC Law Enforcement Skills Program graduating class of 2024. In person attendance is limited to the graduates and their families. The ceremony will be livestreamed on the college’s YouTube channel. \nDate: Friday\, June 28\nTime: 1:00pm\nLocation: Lester Jack Briggs Cultural Center\, FDLTCC \nWatch the Commencement Exercises Livestream
URL:https://fdltcc.edu/event/law-enforcement-skill-program-commencement-exercises/
LOCATION:Fond du Lac Tribal and Community College\, 2101 14th Street\, Cloquet\, MN\, 55720\, United States
ORGANIZER;CN="Fond du Lac Tribal and Community College":MAILTO:taylor.warnes@fdltcc.edu
END:VEVENT
END:VCALENDAR