
BEGIN:VCALENDAR
VERSION:2.0
PRODID:-//Fond du Lac Tribal and Community College - ECPv6.15.20//NONSGML v1.0//EN
CALSCALE:GREGORIAN
METHOD:PUBLISH
X-ORIGINAL-URL:https://fdltcc.edu
X-WR-CALDESC:Events for Fond du Lac Tribal and Community College
REFRESH-INTERVAL;VALUE=DURATION:PT1H
X-Robots-Tag:noindex
X-PUBLISHED-TTL:PT1H
BEGIN:VTIMEZONE
TZID:America/Chicago
BEGIN:DAYLIGHT
TZOFFSETFROM:-0600
TZOFFSETTO:-0500
TZNAME:CDT
DTSTART:20230312T080000
END:DAYLIGHT
BEGIN:STANDARD
TZOFFSETFROM:-0500
TZOFFSETTO:-0600
TZNAME:CST
DTSTART:20231105T070000
END:STANDARD
BEGIN:DAYLIGHT
TZOFFSETFROM:-0600
TZOFFSETTO:-0500
TZNAME:CDT
DTSTART:20240310T080000
END:DAYLIGHT
BEGIN:STANDARD
TZOFFSETFROM:-0500
TZOFFSETTO:-0600
TZNAME:CST
DTSTART:20241103T070000
END:STANDARD
BEGIN:DAYLIGHT
TZOFFSETFROM:-0600
TZOFFSETTO:-0500
TZNAME:CDT
DTSTART:20250309T080000
END:DAYLIGHT
BEGIN:STANDARD
TZOFFSETFROM:-0500
TZOFFSETTO:-0600
TZNAME:CST
DTSTART:20251102T070000
END:STANDARD
END:VTIMEZONE
BEGIN:VEVENT
DTSTART;TZID=America/Chicago:20240731T080000
DTEND;TZID=America/Chicago:20240802T200000
DTSTAMP:20260423T110223
CREATED:20240711T202228Z
LAST-MODIFIED:20240711T202242Z
UID:10000328-1722412800-1722628800@fdltcc.edu
SUMMARY:2024 MAIIADS Conference
DESCRIPTION:The mission for the annual Minnesota American Indian Institute on Alcohol and Drug Studies Conference (MAIIADS) is: “To provide education on alcohol and drug abuse that addresses the total well-being of the American Indian individual\, family\, and community that is sensitive to cultural healing traditions.” \nDate: July 31 – August 2\, 2024\nTime: 8:00 AM \nRegistration is required. \nMAIIADS Goals: \n\nCome together to form a professional community\nEnhance our knowledge\nDiscuss culturally relevant healing approaches for our people and community\nContinue our own healing process\n\nLearn more about the MAIIADS Conference
URL:https://fdltcc.edu/event/2024-maiiads-conference/
LOCATION:Fond du Lac Tribal and Community College\, 2101 14th Street\, Cloquet\, MN\, 55720\, United States
ORGANIZER;CN="Fond du Lac Tribal and Community College":MAILTO:taylor.warnes@fdltcc.edu
END:VEVENT
END:VCALENDAR