
BEGIN:VCALENDAR
VERSION:2.0
PRODID:-//Fond du Lac Tribal and Community College - ECPv6.15.20//NONSGML v1.0//EN
CALSCALE:GREGORIAN
METHOD:PUBLISH
X-ORIGINAL-URL:https://fdltcc.edu
X-WR-CALDESC:Events for Fond du Lac Tribal and Community College
REFRESH-INTERVAL;VALUE=DURATION:PT1H
X-Robots-Tag:noindex
X-PUBLISHED-TTL:PT1H
BEGIN:VTIMEZONE
TZID:America/Chicago
BEGIN:DAYLIGHT
TZOFFSETFROM:-0600
TZOFFSETTO:-0500
TZNAME:CDT
DTSTART:20230312T080000
END:DAYLIGHT
BEGIN:STANDARD
TZOFFSETFROM:-0500
TZOFFSETTO:-0600
TZNAME:CST
DTSTART:20231105T070000
END:STANDARD
BEGIN:DAYLIGHT
TZOFFSETFROM:-0600
TZOFFSETTO:-0500
TZNAME:CDT
DTSTART:20240310T080000
END:DAYLIGHT
BEGIN:STANDARD
TZOFFSETFROM:-0500
TZOFFSETTO:-0600
TZNAME:CST
DTSTART:20241103T070000
END:STANDARD
BEGIN:DAYLIGHT
TZOFFSETFROM:-0600
TZOFFSETTO:-0500
TZNAME:CDT
DTSTART:20250309T080000
END:DAYLIGHT
BEGIN:STANDARD
TZOFFSETFROM:-0500
TZOFFSETTO:-0600
TZNAME:CST
DTSTART:20251102T070000
END:STANDARD
END:VTIMEZONE
BEGIN:VEVENT
DTSTART;TZID=America/Chicago:20241214T170000
DTEND;TZID=America/Chicago:20241214T200000
DTSTAMP:20260424T220650
CREATED:20241203T185657Z
LAST-MODIFIED:20241203T185657Z
UID:10000521-1734195600-1734206400@fdltcc.edu
SUMMARY:Winter Warm Up: A FDLTCC Live Open Mic
DESCRIPTION:Join the Ojibwemowining Digital Arts and Storytelling Studio at FDLTCC for Winter Warm Up: A FDLTCC live Open Mic on Saturday\, December 14. The event will include music\, stand up\, and fashion. The fun begins after the Arts and Crafts Holiday Market in the FDLTCC Commons. \nDate: Saturday\, December 14\nTime: 5:00pm – 8:00pm\nLocation: FDLTCC Commons\nCost: $5 – $10 sliding scale\, free tickets for students and artists.
URL:https://fdltcc.edu/event/winter-warm-up-a-fdltcc-live-open-mic/
LOCATION:Fond du Lac Tribal and Community College\, 2101 14th Street\, Cloquet\, MN\, 55720\, United States
CATEGORIES:ODAS
ORGANIZER;CN="Fond du Lac Tribal and Community College":MAILTO:taylor.warnes@fdltcc.edu
END:VEVENT
END:VCALENDAR