
BEGIN:VCALENDAR
VERSION:2.0
PRODID:-//Fond du Lac Tribal and Community College - ECPv6.15.20//NONSGML v1.0//EN
CALSCALE:GREGORIAN
METHOD:PUBLISH
X-WR-CALNAME:Fond du Lac Tribal and Community College
X-ORIGINAL-URL:https://fdltcc.edu
X-WR-CALDESC:Events for Fond du Lac Tribal and Community College
REFRESH-INTERVAL;VALUE=DURATION:PT1H
X-Robots-Tag:noindex
X-PUBLISHED-TTL:PT1H
BEGIN:VTIMEZONE
TZID:America/Chicago
BEGIN:DAYLIGHT
TZOFFSETFROM:-0600
TZOFFSETTO:-0500
TZNAME:CDT
DTSTART:20230312T080000
END:DAYLIGHT
BEGIN:STANDARD
TZOFFSETFROM:-0500
TZOFFSETTO:-0600
TZNAME:CST
DTSTART:20231105T070000
END:STANDARD
BEGIN:DAYLIGHT
TZOFFSETFROM:-0600
TZOFFSETTO:-0500
TZNAME:CDT
DTSTART:20240310T080000
END:DAYLIGHT
BEGIN:STANDARD
TZOFFSETFROM:-0500
TZOFFSETTO:-0600
TZNAME:CST
DTSTART:20241103T070000
END:STANDARD
BEGIN:DAYLIGHT
TZOFFSETFROM:-0600
TZOFFSETTO:-0500
TZNAME:CDT
DTSTART:20250309T080000
END:DAYLIGHT
BEGIN:STANDARD
TZOFFSETFROM:-0500
TZOFFSETTO:-0600
TZNAME:CST
DTSTART:20251102T070000
END:STANDARD
BEGIN:DAYLIGHT
TZOFFSETFROM:-0600
TZOFFSETTO:-0500
TZNAME:CDT
DTSTART:20260308T080000
END:DAYLIGHT
BEGIN:STANDARD
TZOFFSETFROM:-0500
TZOFFSETTO:-0600
TZNAME:CST
DTSTART:20261101T070000
END:STANDARD
END:VTIMEZONE
BEGIN:VEVENT
DTSTART;TZID=America/Chicago:20251219T170000
DTEND;TZID=America/Chicago:20251219T200000
DTSTAMP:20260423T091811
CREATED:20251210T192152Z
LAST-MODIFIED:20251210T192943Z
UID:10000719-1766163600-1766174400@fdltcc.edu
SUMMARY:FDLTCC Live: Unorthodox
DESCRIPTION:Release your inner zombie with FDLTCC multimedia production students at FDLTCC Live: Unorthodox. \nHear feral Christmas music & take part in a short film made by FDLTCC Multimedia Production students and join us for an open mic following filming. \nDate: Friday\, December 19\nLocation: FDLTCC Commons\nSchedule: \n\nFilming: 5:00pm\nOpen Mic: 6:00pm\n\nQuestions: jeremy.gardner*AT*fdltcc.edu
URL:https://fdltcc.edu/event/fdltcc-live-unorthodox/
LOCATION:Fond du Lac Tribal and Community College\, 2101 14th Street\, Cloquet\, MN\, 55720\, United States
CATEGORIES:ODAS
ORGANIZER;CN="Fond du Lac Tribal and Community College":MAILTO:taylor.warnes@fdltcc.edu
END:VEVENT
BEGIN:VEVENT
DTSTART;VALUE=DATE:20250917
DTEND;VALUE=DATE:20250920
DTSTAMP:20260423T091811
CREATED:20250814T171637Z
LAST-MODIFIED:20250908T214705Z
UID:10000631-1758067200-1758326399@fdltcc.edu
SUMMARY:FDLTCC Rocks
DESCRIPTION:Join the Ojibwemowining Digital Arts and Storytelling for FDLTCC Rocks! This is a cool opportunity for young rock musicians looking to workshop with other young musicians. There is room for 10 others to join our guest musicians in some end of the summer jamming. This workshop is for people who know how to play and want to brush up on some skills. Bring your own instrument and get ready for a laid back\, no strings attached\, rock master class. \nSeptember 17\, 18\, and 19.\n4:00pm – 8:00pm in the Ojibwemowining Resource Center at FDLTCC. \nPerformance at 7:00pm on Friday\, September 19. \nFor more information\, email ljaakola*AT*fdltcc.edu or jeremy.gardner*AT*fdltcc.edu. \nFDLTCC Rocks Flyer
URL:https://fdltcc.edu/event/fdltcc-rocks/
LOCATION:Fond du Lac Tribal and Community College\, 2101 14th Street\, Cloquet\, MN\, 55720\, United States
CATEGORIES:ODAS
END:VEVENT
BEGIN:VEVENT
DTSTART;TZID=America/Chicago:20241214T170000
DTEND;TZID=America/Chicago:20241214T200000
DTSTAMP:20260423T091811
CREATED:20241203T185657Z
LAST-MODIFIED:20241203T185657Z
UID:10000521-1734195600-1734206400@fdltcc.edu
SUMMARY:Winter Warm Up: A FDLTCC Live Open Mic
DESCRIPTION:Join the Ojibwemowining Digital Arts and Storytelling Studio at FDLTCC for Winter Warm Up: A FDLTCC live Open Mic on Saturday\, December 14. The event will include music\, stand up\, and fashion. The fun begins after the Arts and Crafts Holiday Market in the FDLTCC Commons. \nDate: Saturday\, December 14\nTime: 5:00pm – 8:00pm\nLocation: FDLTCC Commons\nCost: $5 – $10 sliding scale\, free tickets for students and artists.
URL:https://fdltcc.edu/event/winter-warm-up-a-fdltcc-live-open-mic/
LOCATION:Fond du Lac Tribal and Community College\, 2101 14th Street\, Cloquet\, MN\, 55720\, United States
CATEGORIES:ODAS
ORGANIZER;CN="Fond du Lac Tribal and Community College":MAILTO:taylor.warnes@fdltcc.edu
END:VEVENT
END:VCALENDAR