
BEGIN:VCALENDAR
VERSION:2.0
PRODID:-//Fond du Lac Tribal and Community College - ECPv6.15.20//NONSGML v1.0//EN
CALSCALE:GREGORIAN
METHOD:PUBLISH
X-ORIGINAL-URL:https://fdltcc.edu
X-WR-CALDESC:Events for Fond du Lac Tribal and Community College
REFRESH-INTERVAL;VALUE=DURATION:PT1H
X-Robots-Tag:noindex
X-PUBLISHED-TTL:PT1H
BEGIN:VTIMEZONE
TZID:America/Chicago
BEGIN:DAYLIGHT
TZOFFSETFROM:-0600
TZOFFSETTO:-0500
TZNAME:CDT
DTSTART:20250309T080000
END:DAYLIGHT
BEGIN:STANDARD
TZOFFSETFROM:-0500
TZOFFSETTO:-0600
TZNAME:CST
DTSTART:20251102T070000
END:STANDARD
BEGIN:DAYLIGHT
TZOFFSETFROM:-0600
TZOFFSETTO:-0500
TZNAME:CDT
DTSTART:20260308T080000
END:DAYLIGHT
BEGIN:STANDARD
TZOFFSETFROM:-0500
TZOFFSETTO:-0600
TZNAME:CST
DTSTART:20261101T070000
END:STANDARD
BEGIN:DAYLIGHT
TZOFFSETFROM:-0600
TZOFFSETTO:-0500
TZNAME:CDT
DTSTART:20270314T080000
END:DAYLIGHT
BEGIN:STANDARD
TZOFFSETFROM:-0500
TZOFFSETTO:-0600
TZNAME:CST
DTSTART:20271107T070000
END:STANDARD
END:VTIMEZONE
BEGIN:VEVENT
DTSTART;TZID=America/Chicago:20260406T173000
DTEND;TZID=America/Chicago:20260406T193000
DTSTAMP:20260423T115156
CREATED:20251112T213916Z
LAST-MODIFIED:20251112T213916Z
UID:10000696-1775496600-1775503800@fdltcc.edu
SUMMARY:Poetry Slam
DESCRIPTION:Come and get inspired\, share your writing\, and enjoy some snacks with Poetry Slam events at FDLTCC! These events are free and open to the community. \nDates: \n\nDecember 2\, 2025\nFebruary 3\, 2026\nMarch 2\, 2026\nApril 6\, 2026\n\nTime: 5:30pm – 7:30pm \nLocation: Ruth A. Myers Library\, FDLTCC \nQuestions: oliviahaman*AT*s.fdltcc.edu \n 
URL:https://fdltcc.edu/event/poetry-slam/2026-04-06/
LOCATION:Fond du Lac Tribal and Community College\, 2101 14th Street\, Cloquet\, MN\, 55720\, United States
CATEGORIES:Ruth A. Myers Library
ORGANIZER;CN="Fond du Lac Tribal and Community College":MAILTO:taylor.warnes@fdltcc.edu
END:VEVENT
BEGIN:VEVENT
DTSTART;TZID=America/Chicago:20260409T170000
DTEND;TZID=America/Chicago:20260409T190000
DTSTAMP:20260423T115156
CREATED:20251122T185939Z
LAST-MODIFIED:20251216T175107Z
UID:10000714-1775754000-1775761200@fdltcc.edu
SUMMARY:FDLTCC Community Drum Practice
DESCRIPTION:Baaga’akokwedaa. Minotaagozi. \nJoin us for the FDLTCC Community Drum Practice\, Thursday evenings in the FDLTCC Commons. Come and sing\, come and listen\, come and hang out. \nQuestions: Blair Powless\, blair.powless*AT*fdltcc.edu \nDates: Thursdays\nTime: 5:00pm – 7:00pm\nLocation: FDLTCC Commons
URL:https://fdltcc.edu/event/fdltcc-community-drum-practice/2026-04-09/
LOCATION:Fond du Lac Tribal and Community College\, 2101 14th Street\, Cloquet\, MN\, 55720\, United States
ORGANIZER;CN="Fond du Lac Tribal and Community College":MAILTO:taylor.warnes@fdltcc.edu
END:VEVENT
BEGIN:VEVENT
DTSTART;TZID=America/Chicago:20260409T170000
DTEND;TZID=America/Chicago:20260409T200000
DTSTAMP:20260423T115156
CREATED:20251021T192646Z
LAST-MODIFIED:20251218T212723Z
UID:10000683-1775754000-1775764800@fdltcc.edu
SUMMARY:Gigibaaga'adowewin "Carrying the Stickgame with us"
DESCRIPTION:Join the Fond du Lac Language Program and FDLTCC for Gigibaaga’adowewin “Carrying the Stickgame with us” every Thursday at FDLTCC! \nDates: Thursdays\nTimes: 5pm-8pm \nEveryone is welcome! \nFDLTCC Gymnasium\, 2101 14th Street Cloquet\, MN 55720 \nBaaga’adowewin skills\, language\, & games! \nDinner is provided \n*Children must be accompanied by an adult \nContact Naawakwe 218-878-8170\nwilliamhowesiii*AT*fdlband.org
URL:https://fdltcc.edu/event/gigibaagaadowewin-carrying-the-stickgame-with-us-6-2-2/2026-04-09/
LOCATION:Fond du Lac Tribal and Community College\, 2101 14th Street\, Cloquet\, MN\, 55720\, United States
ORGANIZER;CN="Fond du Lac Tribal and Community College":MAILTO:taylor.warnes@fdltcc.edu
END:VEVENT
BEGIN:VEVENT
DTSTART;TZID=America/Chicago:20260415T100000
DTEND;TZID=America/Chicago:20260415T130000
DTSTAMP:20260423T115156
CREATED:20240819T161824Z
LAST-MODIFIED:20260223T153043Z
UID:10000337-1776247200-1776258000@fdltcc.edu
SUMMARY:Criminal Justice & Peace Officer Expo
DESCRIPTION:We’re excited to host the 2026 Peace Officer & Criminal Justice Expo and Campus Visit Day from 10:00 a.m. to 1:00 p.m. on Wednesday\, April 15\, 2026\, in the gym at Fond du Lac Tribal and Community College (FDLTCC). \nThe Peace Officer & Criminal Justice Expo is designed to provide information about the wide range of career opportunities available in the criminal justice field. During the event\, attendees can meet with representatives from a variety of local\, county\, state\, and federal agencies to learn about job openings and the communities they serve. The event is open to the public and admission is free. \nLearn more about the Criminal Justice & Peace Officer Expo at FDLTCC \nYou are invited to visit our campus at any time\, and especially during a Campus Visit Day. Make your plans to visit and tour our campus on these special event days. \nCampus Visit Days are a great opportunity to meet in person our faculty\, program staff\, student services staff\, and current students. Come individually\, in a small group\, or with your class to learn more about Fond du Lac Tribal and Community College. It’s a fun experience on campus with hands-on activities\, plus it’s the perfect time to get your questions answered. \n2025-2026 Campus Visit Days \n\nThursday\, October 23\, 2025\, 11:00 AM to 1:00 PM\n\nMonday\, February 9\, 2026\, 10:00 AM to 1:00 PM – Nursing and Healthcare Expo\n\n\nWednesday\, March 11\, 2026\, 8:30 AM to 11:30 AM – Career Awareness and College Fair\n\n\nThis is a career exploration event geared towards groups of students from our local high schools. We are not able to accommodate tours on this day.\n\n\n\n\nWednesday\, April 15\, 2026\, 10:00 AM to 1:00 PM – Criminal Justice and Peace Officer Expo\n\n\nTuesday\, May 5\, 2026\, 11:00 AM to 1:00 PM\n\n\nFor more information\, contact our Admissions Office staff. \nFor more information\, contact our Admissions Office staff: \nJosh Cleveland\, 218-879-0817 or jcleveland*AT*fdltcc.edu\nAmanda Strapple\, 218-879-0808 or amanda.strapple*AT*fdltcc.edu
URL:https://fdltcc.edu/event/cjpo-expo/
LOCATION:Fond du Lac Tribal and Community College\, 2101 14th Street\, Cloquet\, MN\, 55720\, United States
END:VEVENT
BEGIN:VEVENT
DTSTART;TZID=America/Chicago:20260416T170000
DTEND;TZID=America/Chicago:20260416T190000
DTSTAMP:20260423T115156
CREATED:20251122T185939Z
LAST-MODIFIED:20251216T175107Z
UID:10000715-1776358800-1776366000@fdltcc.edu
SUMMARY:FDLTCC Community Drum Practice
DESCRIPTION:Baaga’akokwedaa. Minotaagozi. \nJoin us for the FDLTCC Community Drum Practice\, Thursday evenings in the FDLTCC Commons. Come and sing\, come and listen\, come and hang out. \nQuestions: Blair Powless\, blair.powless*AT*fdltcc.edu \nDates: Thursdays\nTime: 5:00pm – 7:00pm\nLocation: FDLTCC Commons
URL:https://fdltcc.edu/event/fdltcc-community-drum-practice/2026-04-16/
LOCATION:Fond du Lac Tribal and Community College\, 2101 14th Street\, Cloquet\, MN\, 55720\, United States
ORGANIZER;CN="Fond du Lac Tribal and Community College":MAILTO:taylor.warnes@fdltcc.edu
END:VEVENT
BEGIN:VEVENT
DTSTART;TZID=America/Chicago:20260416T170000
DTEND;TZID=America/Chicago:20260416T200000
DTSTAMP:20260423T115156
CREATED:20251021T192646Z
LAST-MODIFIED:20251218T212723Z
UID:10000684-1776358800-1776369600@fdltcc.edu
SUMMARY:Gigibaaga'adowewin "Carrying the Stickgame with us"
DESCRIPTION:Join the Fond du Lac Language Program and FDLTCC for Gigibaaga’adowewin “Carrying the Stickgame with us” every Thursday at FDLTCC! \nDates: Thursdays\nTimes: 5pm-8pm \nEveryone is welcome! \nFDLTCC Gymnasium\, 2101 14th Street Cloquet\, MN 55720 \nBaaga’adowewin skills\, language\, & games! \nDinner is provided \n*Children must be accompanied by an adult \nContact Naawakwe 218-878-8170\nwilliamhowesiii*AT*fdlband.org
URL:https://fdltcc.edu/event/gigibaagaadowewin-carrying-the-stickgame-with-us-6-2-2/2026-04-16/
LOCATION:Fond du Lac Tribal and Community College\, 2101 14th Street\, Cloquet\, MN\, 55720\, United States
ORGANIZER;CN="Fond du Lac Tribal and Community College":MAILTO:taylor.warnes@fdltcc.edu
END:VEVENT
BEGIN:VEVENT
DTSTART;TZID=America/Chicago:20260420T080000
DTEND;TZID=America/Chicago:20260424T170000
DTSTAMP:20260423T115156
CREATED:20250821T142837Z
LAST-MODIFIED:20260320T161649Z
UID:10000633-1776672000-1777050000@fdltcc.edu
SUMMARY:Earth Week
DESCRIPTION:Join us for Earth Week 2026 at FDLTCC! \nMonday 4/20\nLocation: Meeting in Commons\, will have stations around campus \n\n9am-Noon: Fond du Lac Resource Management Youth Visit Day\n12-1pm: Lunch Earth Week Kickoff Feast (Roasted bison and vegetables\, wild rice)\nBioblitz Kickoff\n\nTuesday 4/21\nLocation: Commons \nTime: TBD \n\nKeynote and Discussion Panel: Environmental and Societal Impacts of Artificial Intelligence (AI) and Data Centers\n\nWednesday 4/22\nLocation: Commons \n\n9am-3pm: Research Symposium\n12-1pm: Lunch Feast (Baked Potato Bar)\n4-6pm: Student Showcase\n\nThursday 4/23\nLocation: CFC(Morning)\, Commons for Lunch\, Conversation Location TBD \n\n9am-Noon: Tour of Prescribed Burn Area at Cloquet Forestry Center\n12-1pm: Lunch Feast (Burrito/Taco Bar)\n1pm: Tribal College Fireside Conversation and Listening Session- One of a series of community discussions around Ishkode (fire).  These discussions aim to cultivate a network of fire practitioners across the Great Lakes Region\, promote sustainable and diverse landscapes\, and weave together multiple types of knowledge to help restore and maintain red pine ecosystems. Facilitated by Melonee Montano and Bazile Panek.\n\nFriday 4/24\nLocation: Commons \n\n1-2pm: Bioblitz Recap and Awards\n2-3:30pm: Seed Starting with Erika Resendiz Alonso\n5pm: Movie Showing: “Bring them Home” – Bring Them Home tells the story of a small group of Blackfoot people and their mission to establish the first wild buffalo herd on their ancestral territory since the species’ near-extinction a century ago\, an act that would restore the land\, re-enliven traditional culture and bring much needed healing to their community.  (Snacks provided!)
URL:https://fdltcc.edu/event/earth-week/
LOCATION:Fond du Lac Tribal and Community College\, 2101 14th Street\, Cloquet\, MN\, 55720\, United States
CATEGORIES:Environmental Institute
ORGANIZER;CN="Fond du Lac Tribal and Community College":MAILTO:taylor.warnes@fdltcc.edu
END:VEVENT
BEGIN:VEVENT
DTSTART;TZID=America/Chicago:20260422T090000
DTEND;TZID=America/Chicago:20260422T153000
DTSTAMP:20260423T115156
CREATED:20250414T183309Z
LAST-MODIFIED:20260320T150045Z
UID:10000613-1776848400-1776871800@fdltcc.edu
SUMMARY:Research Symposium
DESCRIPTION:Join us for the 2026 Research Symposium as part of Earth Week at FDLTCC! \nDate: Wednesday\, April 22\nLocation: FDLTCC Commons \nLearn more about Earth Week 2026 at FDLTCC
URL:https://fdltcc.edu/event/research-symposium/
LOCATION:Fond du Lac Tribal and Community College\, 2101 14th Street\, Cloquet\, MN\, 55720\, United States
CATEGORIES:Environmental Institute
ORGANIZER;CN="Fond du Lac Tribal and Community College":MAILTO:taylor.warnes@fdltcc.edu
END:VEVENT
BEGIN:VEVENT
DTSTART;TZID=America/Chicago:20260422T160000
DTEND;TZID=America/Chicago:20260422T180000
DTSTAMP:20260423T115156
CREATED:20240122T222313Z
LAST-MODIFIED:20260220T184610Z
UID:10000285-1776873600-1776880800@fdltcc.edu
SUMMARY:Student Showcase
DESCRIPTION:Join us for a fun evening with our fantastic students! Students from a variety of programs will be showcasing projects from the semester. \nDate: April 22\nTime: 4:00pm – 6:00pm\nLocation: FDLTCC Commons \nFor more information: Courtney Kowalczak\, courtneyk*AT*fdltcc.edu
URL:https://fdltcc.edu/event/student-showcase/
LOCATION:Fond du Lac Tribal and Community College\, 2101 14th Street\, Cloquet\, MN\, 55720\, United States
ORGANIZER;CN="Fond du Lac Tribal and Community College":MAILTO:taylor.warnes@fdltcc.edu
END:VEVENT
BEGIN:VEVENT
DTSTART;TZID=America/Chicago:20260423T170000
DTEND;TZID=America/Chicago:20260423T190000
DTSTAMP:20260423T115156
CREATED:20251122T185939Z
LAST-MODIFIED:20251216T175107Z
UID:10000716-1776963600-1776970800@fdltcc.edu
SUMMARY:FDLTCC Community Drum Practice
DESCRIPTION:Baaga’akokwedaa. Minotaagozi. \nJoin us for the FDLTCC Community Drum Practice\, Thursday evenings in the FDLTCC Commons. Come and sing\, come and listen\, come and hang out. \nQuestions: Blair Powless\, blair.powless*AT*fdltcc.edu \nDates: Thursdays\nTime: 5:00pm – 7:00pm\nLocation: FDLTCC Commons
URL:https://fdltcc.edu/event/fdltcc-community-drum-practice/2026-04-23/
LOCATION:Fond du Lac Tribal and Community College\, 2101 14th Street\, Cloquet\, MN\, 55720\, United States
ORGANIZER;CN="Fond du Lac Tribal and Community College":MAILTO:taylor.warnes@fdltcc.edu
END:VEVENT
BEGIN:VEVENT
DTSTART;TZID=America/Chicago:20260423T170000
DTEND;TZID=America/Chicago:20260423T200000
DTSTAMP:20260423T115156
CREATED:20251021T192646Z
LAST-MODIFIED:20251218T212723Z
UID:10000685-1776963600-1776974400@fdltcc.edu
SUMMARY:Gigibaaga'adowewin "Carrying the Stickgame with us"
DESCRIPTION:Join the Fond du Lac Language Program and FDLTCC for Gigibaaga’adowewin “Carrying the Stickgame with us” every Thursday at FDLTCC! \nDates: Thursdays\nTimes: 5pm-8pm \nEveryone is welcome! \nFDLTCC Gymnasium\, 2101 14th Street Cloquet\, MN 55720 \nBaaga’adowewin skills\, language\, & games! \nDinner is provided \n*Children must be accompanied by an adult \nContact Naawakwe 218-878-8170\nwilliamhowesiii*AT*fdlband.org
URL:https://fdltcc.edu/event/gigibaagaadowewin-carrying-the-stickgame-with-us-6-2-2/2026-04-23/
LOCATION:Fond du Lac Tribal and Community College\, 2101 14th Street\, Cloquet\, MN\, 55720\, United States
ORGANIZER;CN="Fond du Lac Tribal and Community College":MAILTO:taylor.warnes@fdltcc.edu
END:VEVENT
BEGIN:VEVENT
DTSTART;TZID=America/Chicago:20260430T170000
DTEND;TZID=America/Chicago:20260430T190000
DTSTAMP:20260423T115156
CREATED:20251122T185939Z
LAST-MODIFIED:20251216T175107Z
UID:10000717-1777568400-1777575600@fdltcc.edu
SUMMARY:FDLTCC Community Drum Practice
DESCRIPTION:Baaga’akokwedaa. Minotaagozi. \nJoin us for the FDLTCC Community Drum Practice\, Thursday evenings in the FDLTCC Commons. Come and sing\, come and listen\, come and hang out. \nQuestions: Blair Powless\, blair.powless*AT*fdltcc.edu \nDates: Thursdays\nTime: 5:00pm – 7:00pm\nLocation: FDLTCC Commons
URL:https://fdltcc.edu/event/fdltcc-community-drum-practice/2026-04-30/
LOCATION:Fond du Lac Tribal and Community College\, 2101 14th Street\, Cloquet\, MN\, 55720\, United States
ORGANIZER;CN="Fond du Lac Tribal and Community College":MAILTO:taylor.warnes@fdltcc.edu
END:VEVENT
BEGIN:VEVENT
DTSTART;TZID=America/Chicago:20260430T170000
DTEND;TZID=America/Chicago:20260430T200000
DTSTAMP:20260423T115156
CREATED:20251021T192646Z
LAST-MODIFIED:20251218T212723Z
UID:10000686-1777568400-1777579200@fdltcc.edu
SUMMARY:Gigibaaga'adowewin "Carrying the Stickgame with us"
DESCRIPTION:Join the Fond du Lac Language Program and FDLTCC for Gigibaaga’adowewin “Carrying the Stickgame with us” every Thursday at FDLTCC! \nDates: Thursdays\nTimes: 5pm-8pm \nEveryone is welcome! \nFDLTCC Gymnasium\, 2101 14th Street Cloquet\, MN 55720 \nBaaga’adowewin skills\, language\, & games! \nDinner is provided \n*Children must be accompanied by an adult \nContact Naawakwe 218-878-8170\nwilliamhowesiii*AT*fdlband.org
URL:https://fdltcc.edu/event/gigibaagaadowewin-carrying-the-stickgame-with-us-6-2-2/2026-04-30/
LOCATION:Fond du Lac Tribal and Community College\, 2101 14th Street\, Cloquet\, MN\, 55720\, United States
ORGANIZER;CN="Fond du Lac Tribal and Community College":MAILTO:taylor.warnes@fdltcc.edu
END:VEVENT
BEGIN:VEVENT
DTSTART;TZID=America/Chicago:20260502T160000
DTEND;TZID=America/Chicago:20260502T210000
DTSTAMP:20260423T115156
CREATED:20250311T162525Z
LAST-MODIFIED:20251219T201218Z
UID:10000546-1777737600-1777755600@fdltcc.edu
SUMMARY:Thunder Film Festival
DESCRIPTION:Join the Ojibwemowining Digital Arts and Storytelling Studio at Fond du Lac Tribal and Community College for the 8th annual Thunder Film Festival on Saturday\, May 2. \nDate: Saturday\, May 3\nTime: TBD\nLocation: FDLTCC \n  \n 
URL:https://fdltcc.edu/event/thunder-film-festival/
LOCATION:Fond du Lac Tribal and Community College\, 2101 14th Street\, Cloquet\, MN\, 55720\, United States
CATEGORIES:ODAS
ORGANIZER;CN="Fond du Lac Tribal and Community College":MAILTO:taylor.warnes@fdltcc.edu
END:VEVENT
BEGIN:VEVENT
DTSTART;TZID=America/Chicago:20260505T110000
DTEND;TZID=America/Chicago:20260505T130000
DTSTAMP:20260423T115156
CREATED:20240715T152440Z
LAST-MODIFIED:20251014T145042Z
UID:10000334-1777978800-1777986000@fdltcc.edu
SUMMARY:Campus Visit Day - May 5
DESCRIPTION:You are invited to visit our campus at any time\, and especially during a Campus Visit Day. Make your plans to visit and tour our campus on these special event days. \nCampus Visit Days are a great opportunity to meet in person our faculty\, program staff\, student services staff\, and current students. Come individually\, in a small group\, or with your class to learn more about Fond du Lac Tribal and Community College. It’s a fun experience on campus with hands-on activities\, plus it’s the perfect time to get your questions answered. \n2025-2026 Campus Visit Days \n\nThursday\, October 23\, 2025\, 11:00 AM to 1:00 PM\n\nMonday\, February 9\, 2026\, 10:00 AM to 1:00 PM – Nursing and Healthcare Expo\n\n\nWednesday\, March 11\, 2026\, 8:30 AM to 11:30 AM – Career Awareness and College Fair\n\n\nThis is a career exploration event geared towards groups of students from our local high schools. We are not able to accommodate tours on this day.\n\n\n\n\nWednesday\, April 15\, 2026\, 10:00 AM to 1:00 PM – Criminal Justice and Peace Officer Expo\n\n\nTuesday\, May 5\, 2026\, 11:00 AM to 1:00 PM\n\n\nFor more information\, contact our Admissions Office staff. \nJosh Cleveland\n218-879-0817\njcleveland*AT*fdltcc.edu \nAmanda Strapple\n218-879-0808\namanda.strapple*AT*fdltcc.edu
URL:https://fdltcc.edu/event/campus-visit-day-may-5/
LOCATION:Fond du Lac Tribal and Community College\, 2101 14th Street\, Cloquet\, MN\, 55720\, United States
ORGANIZER;CN="Fond du Lac Tribal and Community College":MAILTO:taylor.warnes@fdltcc.edu
END:VEVENT
BEGIN:VEVENT
DTSTART;TZID=America/Chicago:20260507T170000
DTEND;TZID=America/Chicago:20260507T190000
DTSTAMP:20260423T115156
CREATED:20251122T185939Z
LAST-MODIFIED:20251216T175107Z
UID:10000718-1778173200-1778180400@fdltcc.edu
SUMMARY:FDLTCC Community Drum Practice
DESCRIPTION:Baaga’akokwedaa. Minotaagozi. \nJoin us for the FDLTCC Community Drum Practice\, Thursday evenings in the FDLTCC Commons. Come and sing\, come and listen\, come and hang out. \nQuestions: Blair Powless\, blair.powless*AT*fdltcc.edu \nDates: Thursdays\nTime: 5:00pm – 7:00pm\nLocation: FDLTCC Commons
URL:https://fdltcc.edu/event/fdltcc-community-drum-practice/2026-05-07/
LOCATION:Fond du Lac Tribal and Community College\, 2101 14th Street\, Cloquet\, MN\, 55720\, United States
ORGANIZER;CN="Fond du Lac Tribal and Community College":MAILTO:taylor.warnes@fdltcc.edu
END:VEVENT
BEGIN:VEVENT
DTSTART;TZID=America/Chicago:20260507T170000
DTEND;TZID=America/Chicago:20260507T200000
DTSTAMP:20260423T115156
CREATED:20251021T192646Z
LAST-MODIFIED:20251218T212723Z
UID:10000687-1778173200-1778184000@fdltcc.edu
SUMMARY:Gigibaaga'adowewin "Carrying the Stickgame with us"
DESCRIPTION:Join the Fond du Lac Language Program and FDLTCC for Gigibaaga’adowewin “Carrying the Stickgame with us” every Thursday at FDLTCC! \nDates: Thursdays\nTimes: 5pm-8pm \nEveryone is welcome! \nFDLTCC Gymnasium\, 2101 14th Street Cloquet\, MN 55720 \nBaaga’adowewin skills\, language\, & games! \nDinner is provided \n*Children must be accompanied by an adult \nContact Naawakwe 218-878-8170\nwilliamhowesiii*AT*fdlband.org
URL:https://fdltcc.edu/event/gigibaagaadowewin-carrying-the-stickgame-with-us-6-2-2/2026-05-07/
LOCATION:Fond du Lac Tribal and Community College\, 2101 14th Street\, Cloquet\, MN\, 55720\, United States
ORGANIZER;CN="Fond du Lac Tribal and Community College":MAILTO:taylor.warnes@fdltcc.edu
END:VEVENT
BEGIN:VEVENT
DTSTART;TZID=America/Chicago:20260514T183000
DTEND;TZID=America/Chicago:20260514T200000
DTSTAMP:20260423T115156
CREATED:20230127T225152Z
LAST-MODIFIED:20260210T210722Z
UID:10000092-1778783400-1778788800@fdltcc.edu
SUMMARY:Commencement
DESCRIPTION:We’re excited to celebrate this year’s graduates during a commencement ceremony on Thursday\, May 14\, 2026. The ceremony is open to the public and will be livestreamed on the Fond du Lac Tribal and Community College YouTube channel. \n\nDate: Thursday\, May 14\nTime: 6:30 p.m.\nLocation: Lester Jack Briggs Cultural Center
URL:https://fdltcc.edu/event/commencement/
LOCATION:Fond du Lac Tribal and Community College\, 2101 14th Street\, Cloquet\, MN\, 55720\, United States
ORGANIZER;CN="Fond du Lac Tribal and Community College":MAILTO:taylor.warnes@fdltcc.edu
END:VEVENT
BEGIN:VEVENT
DTSTART;VALUE=DATE:20260609
DTEND;VALUE=DATE:20260610
DTSTAMP:20260423T115156
CREATED:20240328T161435Z
LAST-MODIFIED:20260416T182848Z
UID:10000315-1780963200-1781049599@fdltcc.edu
SUMMARY:Ed Fest
DESCRIPTION:Join the FDLTCC Elementary and Child Development programs\nDate & Time: Tuesday\, June 9 | 8:30 AM – 4:00 PMLocation: Fond du Lac Tribal and Community College\, 2101 14th St\, Cloquet \nTheme: STREAM – Where Curiosity Flows Otterly Amazing! \nExplore Science\, Technology\, Robotics\, Engineering\, Art\, and Math through an Indigenous perspective in a day filled with hands-on learning and inspiration. \nWhat to Expect\n\nInspiring keynote presentations and interactive learning experiences\nBreakout sessions designed to spark creativity and practical application\nOpportunities to earn Continuing Education Units (CEUs)\nAccess to vendors offering educational resources and materials\n\nWhat to Bring\n\nLaptop for interactive sessions and activities\nWallet or cash for vendor purchases\n\nHow to Register \nParticipation Registration Link \n\nClick here\n\nVendors please contact: \n\nKatie Beck – Katie.beck*AT*fdltcc.edu\n\nLearn about the Elementary Education program at FDLTCC
URL:https://fdltcc.edu/event/ed-fest/
LOCATION:Fond du Lac Tribal and Community College\, 2101 14th Street\, Cloquet\, MN\, 55720\, United States
ORGANIZER;CN="Fond du Lac Tribal and Community College":MAILTO:taylor.warnes@fdltcc.edu
END:VEVENT
BEGIN:VEVENT
DTSTART;TZID=America/Chicago:20260709T190000
DTEND;TZID=America/Chicago:20260709T210000
DTSTAMP:20260423T115156
CREATED:20260320T165243Z
LAST-MODIFIED:20260320T165313Z
UID:10000542-1783623600-1783630800@fdltcc.edu
SUMMARY:Hot Summer Nights Concert Series
DESCRIPTION:Join us for the 2026 Hot Summer Nights Concert Series at FDLTCC! The 4-week series kicks off Thursday\, July 9\, in our beautiful amphitheater. Stay tuned for details on this year’s line-up! \nLearn more about the Hot Summer Nights Concert Series at FDLTCC
URL:https://fdltcc.edu/event/hot-summer-nights-concert-series-2/2026-07-09/
LOCATION:Fond du Lac Tribal and Community College\, 2101 14th Street\, Cloquet\, MN\, 55720\, United States
ORGANIZER;CN="Fond du Lac Tribal and Community College":MAILTO:taylor.warnes@fdltcc.edu
END:VEVENT
BEGIN:VEVENT
DTSTART;TZID=America/Chicago:20260714T121500
DTEND;TZID=America/Chicago:20260714T170000
DTSTAMP:20260423T115156
CREATED:20230127T225152Z
LAST-MODIFIED:20260319T214824Z
UID:10000087-1784031300-1784048400@fdltcc.edu
SUMMARY:Cloquet Croquet Invitational
DESCRIPTION:Looking for a fun and exciting event? Get a team together and join us for the 16th Annual Cloquet Croquet Invitational at the Black Bear Golf Course Driving Range. \nRegistration for the 16th Annual Cloquet Croquet Invitation will open in May 2026. If you have any questions or would like to sponsor the event\, please contact Stephanie Untiedt. \nPrizes are awarded for the best dressed and championship team.  \nDate: Tuesday\, July 14th    \nTime: 1:00 pm to 5:00 pm   \nLocation: Black Bear Golf Course Driving Range   \nLearn more about the annual Cloquet Croquet Invitational \nLearn about the FDLTCC Foundation
URL:https://fdltcc.edu/event/cloquet-croquet-invitational/
LOCATION:Black Bear Golf Course Clubhouse\, 1791 Highway 210\, Carlton\, MN\, United States
ORGANIZER;CN="Fond du Lac Tribal and Community College Foundation":MAILTO:taylor.warnes@fdltcc.edu
END:VEVENT
BEGIN:VEVENT
DTSTART;TZID=America/Chicago:20260716T190000
DTEND;TZID=America/Chicago:20260716T210000
DTSTAMP:20260423T115156
CREATED:20260320T165243Z
LAST-MODIFIED:20260320T165313Z
UID:10000731-1784228400-1784235600@fdltcc.edu
SUMMARY:Hot Summer Nights Concert Series
DESCRIPTION:Join us for the 2026 Hot Summer Nights Concert Series at FDLTCC! The 4-week series kicks off Thursday\, July 9\, in our beautiful amphitheater. Stay tuned for details on this year’s line-up! \nLearn more about the Hot Summer Nights Concert Series at FDLTCC
URL:https://fdltcc.edu/event/hot-summer-nights-concert-series-2/2026-07-16/
LOCATION:Fond du Lac Tribal and Community College\, 2101 14th Street\, Cloquet\, MN\, 55720\, United States
ORGANIZER;CN="Fond du Lac Tribal and Community College":MAILTO:taylor.warnes@fdltcc.edu
END:VEVENT
BEGIN:VEVENT
DTSTART;TZID=America/Chicago:20260723T190000
DTEND;TZID=America/Chicago:20260723T210000
DTSTAMP:20260423T115156
CREATED:20260320T165243Z
LAST-MODIFIED:20260320T165313Z
UID:10000732-1784833200-1784840400@fdltcc.edu
SUMMARY:Hot Summer Nights Concert Series
DESCRIPTION:Join us for the 2026 Hot Summer Nights Concert Series at FDLTCC! The 4-week series kicks off Thursday\, July 9\, in our beautiful amphitheater. Stay tuned for details on this year’s line-up! \nLearn more about the Hot Summer Nights Concert Series at FDLTCC
URL:https://fdltcc.edu/event/hot-summer-nights-concert-series-2/2026-07-23/
LOCATION:Fond du Lac Tribal and Community College\, 2101 14th Street\, Cloquet\, MN\, 55720\, United States
ORGANIZER;CN="Fond du Lac Tribal and Community College":MAILTO:taylor.warnes@fdltcc.edu
END:VEVENT
BEGIN:VEVENT
DTSTART;TZID=America/Chicago:20260730T190000
DTEND;TZID=America/Chicago:20260730T210000
DTSTAMP:20260423T115156
CREATED:20260320T165243Z
LAST-MODIFIED:20260320T165313Z
UID:10000733-1785438000-1785445200@fdltcc.edu
SUMMARY:Hot Summer Nights Concert Series
DESCRIPTION:Join us for the 2026 Hot Summer Nights Concert Series at FDLTCC! The 4-week series kicks off Thursday\, July 9\, in our beautiful amphitheater. Stay tuned for details on this year’s line-up! \nLearn more about the Hot Summer Nights Concert Series at FDLTCC
URL:https://fdltcc.edu/event/hot-summer-nights-concert-series-2/2026-07-30/
LOCATION:Fond du Lac Tribal and Community College\, 2101 14th Street\, Cloquet\, MN\, 55720\, United States
ORGANIZER;CN="Fond du Lac Tribal and Community College":MAILTO:taylor.warnes@fdltcc.edu
END:VEVENT
BEGIN:VEVENT
DTSTART;TZID=America/Chicago:20261017T080000
DTEND;TZID=America/Chicago:20261017T170000
DTSTAMP:20260423T115156
CREATED:20241101T142707Z
LAST-MODIFIED:20251030T164820Z
UID:10000518-1792224000-1792256400@fdltcc.edu
SUMMARY:Pumpkin Run/Walk & Ring Road Fun Run
DESCRIPTION:Join us for the 21st annual Pumpkin Run & Walk 5K\, presented by the FDLTCC Child Development program’s Miskwaadesi Head Start Project\, at Fond du Lac Tribal and Community College on October 17\, 2026. \nFor the 4th year\, the event will include both the 5K option and the Ring Road Fun Run. The Ring Road Fun Run is a short race circling the beautiful Fond du Lac Tribal and Community College campus. The race will cover 1 lap of the campus’ ring road. Youth 10 and under are able to register for the Ring Road Fun Run for free. All registered participants will receive a t-shirt. \nRegistration for the 2026 race will open in the summer. \nLearn more about the Pumpkin Run & Walk
URL:https://fdltcc.edu/event/pumpkin-run-walk-ring-road-fun-run/
LOCATION:Fond du Lac Tribal and Community College\, 2101 14th Street\, Cloquet\, MN\, 55720\, United States
ORGANIZER;CN="Fond du Lac Tribal and Community College":MAILTO:taylor.warnes@fdltcc.edu
END:VEVENT
END:VCALENDAR