
BEGIN:VCALENDAR
VERSION:2.0
PRODID:-//Fond du Lac Tribal and Community College - ECPv6.15.20//NONSGML v1.0//EN
CALSCALE:GREGORIAN
METHOD:PUBLISH
X-WR-CALNAME:Fond du Lac Tribal and Community College
X-ORIGINAL-URL:https://fdltcc.edu
X-WR-CALDESC:Events for Fond du Lac Tribal and Community College
REFRESH-INTERVAL;VALUE=DURATION:PT1H
X-Robots-Tag:noindex
X-PUBLISHED-TTL:PT1H
BEGIN:VTIMEZONE
TZID:America/Chicago
BEGIN:DAYLIGHT
TZOFFSETFROM:-0600
TZOFFSETTO:-0500
TZNAME:CDT
DTSTART:20210314T080000
END:DAYLIGHT
BEGIN:STANDARD
TZOFFSETFROM:-0500
TZOFFSETTO:-0600
TZNAME:CST
DTSTART:20211107T070000
END:STANDARD
BEGIN:DAYLIGHT
TZOFFSETFROM:-0600
TZOFFSETTO:-0500
TZNAME:CDT
DTSTART:20220313T080000
END:DAYLIGHT
BEGIN:STANDARD
TZOFFSETFROM:-0500
TZOFFSETTO:-0600
TZNAME:CST
DTSTART:20221106T070000
END:STANDARD
BEGIN:DAYLIGHT
TZOFFSETFROM:-0600
TZOFFSETTO:-0500
TZNAME:CDT
DTSTART:20230312T080000
END:DAYLIGHT
BEGIN:STANDARD
TZOFFSETFROM:-0500
TZOFFSETTO:-0600
TZNAME:CST
DTSTART:20231105T070000
END:STANDARD
END:VTIMEZONE
BEGIN:VEVENT
DTSTART;TZID=America/Chicago:20220226T140000
DTEND;TZID=America/Chicago:20220226T140000
DTSTAMP:20260423T180041
CREATED:20230127T225200Z
LAST-MODIFIED:20230203T161130Z
UID:10000107-1645884000-1645884000@fdltcc.edu
SUMMARY:Ojibwe Language Symposium
DESCRIPTION:Ojibwe Language Symposium \n2022 Virtual Ojibwe Language Symposium \nNamebini-giizisong – Wii-inakamigad (throughout the month of February) \nSaturdays\, 2:00-5:30pm: February 5\, 12\, 19\, 26 \nWednesdays\, 6:00-8:00pm: February 9\, 16\, 23 \nFor more information  Click Here \nTo register for the free virtual event: Click Here \nThis year’s Ojibwe Language Symposium will offer three strands of language learning: \n1.) a nurturing level for beginners\n2.) an intermediate level for practitioners\, and\n3.) an immersion level for fluent speakers Aambe Anishinaabemodaa! \nGidinwewininaan – Mii iw epiitendaagwak (Our language is most highly valued)
URL:https://fdltcc.edu/event/ojibwe-language-symposium-4/
LOCATION:MN
ORGANIZER;CN="Fond du Lac Tribal and Community College":MAILTO:taylor.warnes@fdltcc.edu
END:VEVENT
BEGIN:VEVENT
DTSTART;TZID=America/Chicago:20220223T150000
DTEND;TZID=America/Chicago:20220223T150000
DTSTAMP:20260423T180041
CREATED:20230127T225158Z
LAST-MODIFIED:20230203T161136Z
UID:10000109-1645628400-1645628400@fdltcc.edu
SUMMARY:Ma’iingan (wolf) Population Monitoring on the Fond du Lac Reservation
DESCRIPTION:Ma’iingan\, the wolf\, is a central figure in the Ojibwe creation story and as such\, many tribal members feel a close spiritual connection to the wolf.  Wolves also can be charismatic\, divisive and a significant northwoods predator.  The Fond du Lac Band’s Resource Management Division has been studying wolves for the past several years working to estimate the number of wolves annually using the Reservation.  This research includes trying to determine the location and size of local pack territories\, locating their dens and monitoring reproduction and tracking causes and rates of mortality.  In addition\, the Division works to determine the impact of significant activities\, such as the Line 3 pipeline construction\, on the resident wolf population.  Mike Schrage\, the wildlife biologist for the Band’s Resource Management Division will share the results of this work in his presentation. \nDate: Wednesday February 23rd at 3 p.m. \nLocation: 195 (auditorium) or Zoom \nZoom: https://minnstate.zoom.us/j/96904935843 \nJoin the Presentation via Zoom \n 
URL:https://fdltcc.edu/event/maiingan-wolf-population-monitoring-on-the-fond-du-lac-reservation/
LOCATION:MN
ORGANIZER;CN="Fond du Lac Tribal and Community College":MAILTO:taylor.warnes@fdltcc.edu
END:VEVENT
BEGIN:VEVENT
DTSTART;TZID=America/Chicago:20220223T120000
DTEND;TZID=America/Chicago:20220223T120000
DTSTAMP:20260423T180041
CREATED:20230127T225157Z
LAST-MODIFIED:20230203T161139Z
UID:10000110-1645617600-1645617600@fdltcc.edu
SUMMARY:Guest Speaker: Serrano Robinson
DESCRIPTION:Serrano draws on his own childhood experiences growing up in a low income area to develop common ground. He works at Men as Peacemakers giving youth a safe space to be themselves within the systems that we live. He is passionate about social change and stands firmly on youth development and equity. \nDate: February 23 \nTime: 12:00pm \nLocation: \n\nFDLTCC Commons (Students only)\nZoom (Meeting ID: 998 7261 3215\, Passcode: 148915)\n\nJoin the Presentation via Zoom
URL:https://fdltcc.edu/event/guest-speaker-serrano-robinson/
LOCATION:MN
ORGANIZER;CN="Fond du Lac Tribal and Community College":MAILTO:taylor.warnes@fdltcc.edu
END:VEVENT
BEGIN:VEVENT
DTSTART;TZID=America/Chicago:20220219T140000
DTEND;TZID=America/Chicago:20220219T140000
DTSTAMP:20260423T180041
CREATED:20230127T225159Z
LAST-MODIFIED:20230203T161152Z
UID:10000111-1645279200-1645279200@fdltcc.edu
SUMMARY:Ojibwe Language Symposium
DESCRIPTION:Ojibwe Language Symposium \n2022 Virtual Ojibwe Language Symposium \nNamebini-giizisong – Wii-inakamigad (throughout the month of February) \nSaturdays\, 2:00-5:30pm: February 5\, 12\, 19\, 26 \nWednesdays\, 6:00-8:00pm: February 9\, 16\, 23 \nFor more information  Click Here \nTo register for the free virtual event: Click Here \nThis year’s Ojibwe Language Symposium will offer three strands of language learning: \n1.) a nurturing level for beginners\n2.) an intermediate level for practitioners\, and\n3.) an immersion level for fluent speakers Aambe Anishinaabemodaa! \nGidinwewininaan – Mii iw epiitendaagwak (Our language is most highly valued)
URL:https://fdltcc.edu/event/ojibwe-language-symposium-3/
LOCATION:MN
ORGANIZER;CN="Fond du Lac Tribal and Community College":MAILTO:taylor.warnes@fdltcc.edu
END:VEVENT
BEGIN:VEVENT
DTSTART;TZID=America/Chicago:20220219T130000
DTEND;TZID=America/Chicago:20220219T130000
DTSTAMP:20260423T180041
CREATED:20230127T225201Z
LAST-MODIFIED:20230203T161156Z
UID:10000112-1645275600-1645275600@fdltcc.edu
SUMMARY:Men’s Basketball
DESCRIPTION:Cheer on the Thunder as they play Northland Community & Technical College in their final game of the 2021-2022 season on Saturday\, February 19. \nThe game starts at 1:00pm in the FDLTCC Gymnasium and well-fitted masks will be required for all attendees. \nThe game will be livestreamed on the Thunder Nation Facebook page. \nFor more information on the men’s basketball team and season\, visit https://fdltcc.edu/act…/thunder-athletics/mens-basketball/
URL:https://fdltcc.edu/event/mens-basketball-2/
LOCATION:MN
ORGANIZER;CN="Fond du Lac Tribal and Community College":MAILTO:taylor.warnes@fdltcc.edu
END:VEVENT
BEGIN:VEVENT
DTSTART;TZID=America/Chicago:20220216T190000
DTEND;TZID=America/Chicago:20220216T190000
DTSTAMP:20260423T180041
CREATED:20230127T225201Z
LAST-MODIFIED:20230203T161159Z
UID:10000113-1645038000-1645038000@fdltcc.edu
SUMMARY:Men’s Basketball
DESCRIPTION:Men’s Basketball game against Hibbing Community College.
URL:https://fdltcc.edu/event/mens-basketball-3/
LOCATION:MN
ORGANIZER;CN="Fond du Lac Tribal and Community College":MAILTO:taylor.warnes@fdltcc.edu
END:VEVENT
BEGIN:VEVENT
DTSTART;TZID=America/Chicago:20220216T180000
DTEND;TZID=America/Chicago:20220216T180000
DTSTAMP:20260423T180041
CREATED:20230127T225159Z
LAST-MODIFIED:20230203T161202Z
UID:10000114-1645034400-1645034400@fdltcc.edu
SUMMARY:Ojibwe Language Symposium
DESCRIPTION:Ojibwe Language Symposium \n2022 Virtual Ojibwe Language Symposium \nNamebini-giizisong – Wii-inakamigad (throughout the month of February) \nSaturdays\, 2:00-5:30pm: February 5\, 12\, 19\, 26 \nWednesdays\, 6:00-8:00pm: February 9\, 16\, 23 \nFor more information  Click Here \nTo register for the free virtual event: Click Here \nThis year’s Ojibwe Language Symposium will offer three strands of language learning: \n1.) a nurturing level for beginners\n2.) an intermediate level for practitioners\, and\n3.) an immersion level for fluent speakers Aambe Anishinaabemodaa! \nGidinwewininaan – Mii iw epiitendaagwak (Our language is most highly valued)
URL:https://fdltcc.edu/event/ojibwe-language-symposium-2/
LOCATION:MN
ORGANIZER;CN="Fond du Lac Tribal and Community College":MAILTO:taylor.warnes@fdltcc.edu
END:VEVENT
BEGIN:VEVENT
DTSTART;TZID=America/Chicago:20220212T140000
DTEND;TZID=America/Chicago:20220212T140000
DTSTAMP:20260423T180041
CREATED:20230127T225202Z
LAST-MODIFIED:20230203T161227Z
UID:10000116-1644674400-1644674400@fdltcc.edu
SUMMARY:Ojibwe Language Symposium
DESCRIPTION:Ojibwe Language Symposium \n2022 Virtual Ojibwe Language Symposium \nNamebini-giizisong – Wii-inakamigad (throughout the month of February) \nSaturdays\, 2:00-5:30pm: February 5\, 12\, 19\, 26 \nWednesdays\, 6:00-8:00pm: February 9\, 16\, 23 \nFor more information  Click Here \nTo register for the free virtual event: Click Here \nThis year’s Ojibwe Language Symposium will offer three strands of language learning: \n1.) a nurturing level for beginners\n2.) an intermediate level for practitioners\, and\n3.) an immersion level for fluent speakers Aambe Anishinaabemodaa! \nGidinwewininaan – Mii iw epiitendaagwak (Our language is most highly valued)
URL:https://fdltcc.edu/event/ojibwe-language-symposium-5/
LOCATION:MN
ORGANIZER;CN="Fond du Lac Tribal and Community College":MAILTO:taylor.warnes@fdltcc.edu
END:VEVENT
BEGIN:VEVENT
DTSTART;TZID=America/Chicago:20220212T090000
DTEND;TZID=America/Chicago:20220212T090000
DTSTAMP:20260423T180041
CREATED:20230127T225202Z
LAST-MODIFIED:20230203T161205Z
UID:10000115-1644656400-1644656400@fdltcc.edu
SUMMARY:Beekeeping & More Symposium
DESCRIPTION:Interested in learning more about beekeeping? Or maybe you want to learn more about our native pollinators? If so\, join us for our 7th annual Beekeeping and More symposium on February 12th\, 2022 via zoom. Come and listen to talks given by expert speakers including NEMNBA\, UMN Bee Squad\, and other beekeeping experts. There will also be prizes\, and a hands-on products from the hive kit! \nWhether you’re a beginner or an experienced beekeeper\, we have something for everyone at the Beekeeping and More Symposium! \nOne day event: 9:00a.m. – 12:30 p.m. on zoom \nRegistration: $15 \n  \nClick Here to Register \n  \nRegistration required. The Zoom link and agenda for the Virtual Beekeeping and More Symposium will be sent to registered participants. \nRegistration closes on February 11th at 5pm \nFor more information contact Courtney Kowalczak at courtneyk*AT*fdltcc.edu or call (218) 879-0862
URL:https://fdltcc.edu/event/beekeeping-more-symposium/
LOCATION:MN
ORGANIZER;CN="Fond du Lac Tribal and Community College":MAILTO:taylor.warnes@fdltcc.edu
END:VEVENT
BEGIN:VEVENT
DTSTART;TZID=America/Chicago:20220209T190000
DTEND;TZID=America/Chicago:20220209T190000
DTSTAMP:20260423T180041
CREATED:20230127T225158Z
LAST-MODIFIED:20230203T161231Z
UID:10000117-1644433200-1644433200@fdltcc.edu
SUMMARY:Men’s Basketball
DESCRIPTION:Cheer on the Thunder as they play Central Lakes Community College at home on Wednesday \, February 9\, 2022. The game starts at 7:00pm in the FDLTCC Gymnasium and well-fitted masks will be required for all attendees. \nThe game will be livestreamed on the Thunder Nation Facebook page. \nFor more information on the men’s basketball team and season\, visit https://fdltcc.edu/activities-and-athletics/thunder-athletics/mens-basketball/
URL:https://fdltcc.edu/event/mens-basketball/
LOCATION:MN
ORGANIZER;CN="Fond du Lac Tribal and Community College":MAILTO:taylor.warnes@fdltcc.edu
END:VEVENT
BEGIN:VEVENT
DTSTART;TZID=America/Chicago:20220209T180000
DTEND;TZID=America/Chicago:20220209T180000
DTSTAMP:20260423T180041
CREATED:20230127T225202Z
LAST-MODIFIED:20230203T161234Z
UID:10000118-1644429600-1644429600@fdltcc.edu
SUMMARY:Ojibwe Language Symposium
DESCRIPTION:Ojibwe Language Symposium \n2022 Virtual Ojibwe Language Symposium \nNamebini-giizisong – Wii-inakamigad (throughout the month of February) \nSaturdays\, 2:00-5:30pm: February 5\, 12\, 19\, 26 \nWednesdays\, 6:00-8:00pm: February 9\, 16\, 23 \nFor more information  Click Here \nTo register for the free virtual event: Click Here \nThis year’s Ojibwe Language Symposium will offer three strands of language learning: \n1.) a nurturing level for beginners\n2.) an intermediate level for practitioners\, and\n3.) an immersion level for fluent speakers Aambe Anishinaabemodaa! \nGidinwewininaan – Mii iw epiitendaagwak (Our language is most highly valued)
URL:https://fdltcc.edu/event/ojibwe-language-symposium-6/
LOCATION:MN
ORGANIZER;CN="Fond du Lac Tribal and Community College":MAILTO:taylor.warnes@fdltcc.edu
END:VEVENT
BEGIN:VEVENT
DTSTART;TZID=America/Chicago:20220208T100000
DTEND;TZID=America/Chicago:20220208T100000
DTSTAMP:20260423T180041
CREATED:20230127T225203Z
LAST-MODIFIED:20230203T161237Z
UID:10000119-1644314400-1644314400@fdltcc.edu
SUMMARY:Nursing & Healthcare Expo
DESCRIPTION:Learn about exciting healthcare careers\, agencies and employment opportunities at the 2022 Nursing and Healthcare Expo at Fond du Lac Tribal and Community College. \nDate: Tuesday\, February 8\, 2022 Time: 10:00am – 1:00pm\nLocation: Fond du Lac Tribal and Community College\, 2101 14th St\, Cloquet\, MN. \nFace masks are required for all attendees. \nFDLTCC asks that all visitors practice social distancing while on campus. \nCampus Visit Days are a great opportunity to meet in person our faculty\, program staff\, student services staff\, Thunder athletics coaches\, and current students. Come individually\, in a small group\, or with your class to learn more about Fond du Lac Tribal and Community College. It’s a fun experience on campus with hands-on activities\, plus it’s the perfect time to get your questions answered. \nFor other campus visit days during the 2021-2022 academic year please visit https://fdltcc.edu/admissions/visit-us/campus-visit-days/
URL:https://fdltcc.edu/event/nursing-healthcare-expo-2/
LOCATION:MN
ORGANIZER;CN="Fond du Lac Tribal and Community College":MAILTO:taylor.warnes@fdltcc.edu
END:VEVENT
END:VCALENDAR