
BEGIN:VCALENDAR
VERSION:2.0
PRODID:-//Fond du Lac Tribal and Community College - ECPv6.15.20//NONSGML v1.0//EN
CALSCALE:GREGORIAN
METHOD:PUBLISH
X-ORIGINAL-URL:https://fdltcc.edu
X-WR-CALDESC:Events for Fond du Lac Tribal and Community College
REFRESH-INTERVAL;VALUE=DURATION:PT1H
X-Robots-Tag:noindex
X-PUBLISHED-TTL:PT1H
BEGIN:VTIMEZONE
TZID:America/Chicago
BEGIN:DAYLIGHT
TZOFFSETFROM:-0600
TZOFFSETTO:-0500
TZNAME:CDT
DTSTART:20240310T080000
END:DAYLIGHT
BEGIN:STANDARD
TZOFFSETFROM:-0500
TZOFFSETTO:-0600
TZNAME:CST
DTSTART:20241103T070000
END:STANDARD
BEGIN:DAYLIGHT
TZOFFSETFROM:-0600
TZOFFSETTO:-0500
TZNAME:CDT
DTSTART:20250309T080000
END:DAYLIGHT
BEGIN:STANDARD
TZOFFSETFROM:-0500
TZOFFSETTO:-0600
TZNAME:CST
DTSTART:20251102T070000
END:STANDARD
BEGIN:DAYLIGHT
TZOFFSETFROM:-0600
TZOFFSETTO:-0500
TZNAME:CDT
DTSTART:20260308T080000
END:DAYLIGHT
BEGIN:STANDARD
TZOFFSETFROM:-0500
TZOFFSETTO:-0600
TZNAME:CST
DTSTART:20261101T070000
END:STANDARD
BEGIN:DAYLIGHT
TZOFFSETFROM:-0600
TZOFFSETTO:-0500
TZNAME:CDT
DTSTART:20270314T080000
END:DAYLIGHT
BEGIN:STANDARD
TZOFFSETFROM:-0500
TZOFFSETTO:-0600
TZNAME:CST
DTSTART:20271107T070000
END:STANDARD
END:VTIMEZONE
BEGIN:VEVENT
DTSTART;TZID=America/Chicago:20251106T170000
DTEND;TZID=America/Chicago:20251106T200000
DTSTAMP:20260423T151515
CREATED:20251021T192646Z
LAST-MODIFIED:20251218T212723Z
UID:10000664-1762448400-1762459200@fdltcc.edu
SUMMARY:Gigibaaga'adowewin "Carrying the Stickgame with us"
DESCRIPTION:Join the Fond du Lac Language Program and FDLTCC for Gigibaaga’adowewin “Carrying the Stickgame with us” every Thursday at FDLTCC! \nDates: Thursdays\nTimes: 5pm-8pm \nEveryone is welcome! \nFDLTCC Gymnasium\, 2101 14th Street Cloquet\, MN 55720 \nBaaga’adowewin skills\, language\, & games! \nDinner is provided \n*Children must be accompanied by an adult \nContact Naawakwe 218-878-8170\nwilliamhowesiii*AT*fdlband.org
URL:https://fdltcc.edu/event/gigibaagaadowewin-carrying-the-stickgame-with-us-6-2-2/2025-11-06/
LOCATION:Fond du Lac Tribal and Community College\, 2101 14th Street\, Cloquet\, MN\, 55720\, United States
ORGANIZER;CN="Fond du Lac Tribal and Community College":MAILTO:taylor.warnes@fdltcc.edu
END:VEVENT
BEGIN:VEVENT
DTSTART;TZID=America/Chicago:20251110T180000
DTEND;TZID=America/Chicago:20251110T200000
DTSTAMP:20260423T151515
CREATED:20250912T173726Z
LAST-MODIFIED:20250912T173726Z
UID:10000643-1762797600-1762804800@fdltcc.edu
SUMMARY:Hand Drumming with Oshkii Giizhik
DESCRIPTION:Join us for Hand Drumming with Oshkii Giizhik at FDLTCC.\nMondays starting at 6pm in the Ojibwemowining Resource Center at Fond du Lac Tribal and Community College. \nDates: Mondays\nTime: 6:00pm – 8:00pm\nLocation: Ojibwemowining Resource Center\, FDLTCC \nOpen to the public.
URL:https://fdltcc.edu/event/hand-drumming-with-oshkii-giizhik-9/2025-11-10/
LOCATION:Fond du Lac Tribal and Community College\, 2101 14th Street\, Cloquet\, MN\, 55720\, United States
ORGANIZER;CN="Fond du Lac Tribal and Community College":MAILTO:taylor.warnes@fdltcc.edu
END:VEVENT
BEGIN:VEVENT
DTSTART;TZID=America/Chicago:20251113T170000
DTEND;TZID=America/Chicago:20251113T190000
DTSTAMP:20260423T151515
CREATED:20230127T225138Z
LAST-MODIFIED:20250926T180139Z
UID:10000046-1763053200-1763060400@fdltcc.edu
SUMMARY:Giving Thanks and Veterans Feast
DESCRIPTION:Join us for a wonderful event honoring FDLTCC students\, faculty\, staff\, and community members who are military veterans or are currently on active duty. The free event will feature a delicious feast and is open to the public. \nThursday\, November 13\n5:00pm – 7:00pm\nFDLTCC Commons \nQuestions: Jesse Stirewalt\, jstirewalt*AT*fdltcc.edu
URL:https://fdltcc.edu/event/giving-thanks-and-veterans-feast/
LOCATION:Fond du Lac Tribal and Community College\, 2101 14th Street\, Cloquet\, MN\, 55720\, United States
ORGANIZER;CN="Fond du Lac Tribal and Community College":MAILTO:taylor.warnes@fdltcc.edu
END:VEVENT
BEGIN:VEVENT
DTSTART;TZID=America/Chicago:20251113T170000
DTEND;TZID=America/Chicago:20251113T200000
DTSTAMP:20260423T151515
CREATED:20251021T192646Z
LAST-MODIFIED:20251218T212723Z
UID:10000665-1763053200-1763064000@fdltcc.edu
SUMMARY:Gigibaaga'adowewin "Carrying the Stickgame with us"
DESCRIPTION:Join the Fond du Lac Language Program and FDLTCC for Gigibaaga’adowewin “Carrying the Stickgame with us” every Thursday at FDLTCC! \nDates: Thursdays\nTimes: 5pm-8pm \nEveryone is welcome! \nFDLTCC Gymnasium\, 2101 14th Street Cloquet\, MN 55720 \nBaaga’adowewin skills\, language\, & games! \nDinner is provided \n*Children must be accompanied by an adult \nContact Naawakwe 218-878-8170\nwilliamhowesiii*AT*fdlband.org
URL:https://fdltcc.edu/event/gigibaagaadowewin-carrying-the-stickgame-with-us-6-2-2/2025-11-13/
LOCATION:Fond du Lac Tribal and Community College\, 2101 14th Street\, Cloquet\, MN\, 55720\, United States
ORGANIZER;CN="Fond du Lac Tribal and Community College":MAILTO:taylor.warnes@fdltcc.edu
END:VEVENT
BEGIN:VEVENT
DTSTART;TZID=America/Chicago:20251117T180000
DTEND;TZID=America/Chicago:20251117T200000
DTSTAMP:20260423T151515
CREATED:20250912T173726Z
LAST-MODIFIED:20250912T173726Z
UID:10000644-1763402400-1763409600@fdltcc.edu
SUMMARY:Hand Drumming with Oshkii Giizhik
DESCRIPTION:Join us for Hand Drumming with Oshkii Giizhik at FDLTCC.\nMondays starting at 6pm in the Ojibwemowining Resource Center at Fond du Lac Tribal and Community College. \nDates: Mondays\nTime: 6:00pm – 8:00pm\nLocation: Ojibwemowining Resource Center\, FDLTCC \nOpen to the public.
URL:https://fdltcc.edu/event/hand-drumming-with-oshkii-giizhik-9/2025-11-17/
LOCATION:Fond du Lac Tribal and Community College\, 2101 14th Street\, Cloquet\, MN\, 55720\, United States
ORGANIZER;CN="Fond du Lac Tribal and Community College":MAILTO:taylor.warnes@fdltcc.edu
END:VEVENT
BEGIN:VEVENT
DTSTART;TZID=America/Chicago:20251119T120000
DTEND;TZID=America/Chicago:20251119T124500
DTSTAMP:20260423T151515
CREATED:20251027T203215Z
LAST-MODIFIED:20251027T205146Z
UID:10000690-1763553600-1763556300@fdltcc.edu
SUMMARY:Sasha Cooke - Performance and Q&A
DESCRIPTION:Join us for an exciting event with world-renowned mezzo soprano\, Sasha Cooke! \nSasha Cooke will be giving a short concert with piano in the FDLTCC Commons area followed by a question-and-answer period. \nFree to the public \nDate: Wednesday\, November 19\nTime: 12:00pm\nLocation: FDLTCC Commons \n 
URL:https://fdltcc.edu/event/sasha-cooke/
LOCATION:Fond du Lac Tribal and Community College\, 2101 14th Street\, Cloquet\, MN\, 55720\, United States
ORGANIZER;CN="Fond du Lac Tribal and Community College":MAILTO:taylor.warnes@fdltcc.edu
END:VEVENT
BEGIN:VEVENT
DTSTART;TZID=America/Chicago:20251120T170000
DTEND;TZID=America/Chicago:20251120T200000
DTSTAMP:20260423T151515
CREATED:20251021T192646Z
LAST-MODIFIED:20251218T212723Z
UID:10000666-1763658000-1763668800@fdltcc.edu
SUMMARY:Gigibaaga'adowewin "Carrying the Stickgame with us"
DESCRIPTION:Join the Fond du Lac Language Program and FDLTCC for Gigibaaga’adowewin “Carrying the Stickgame with us” every Thursday at FDLTCC! \nDates: Thursdays\nTimes: 5pm-8pm \nEveryone is welcome! \nFDLTCC Gymnasium\, 2101 14th Street Cloquet\, MN 55720 \nBaaga’adowewin skills\, language\, & games! \nDinner is provided \n*Children must be accompanied by an adult \nContact Naawakwe 218-878-8170\nwilliamhowesiii*AT*fdlband.org
URL:https://fdltcc.edu/event/gigibaagaadowewin-carrying-the-stickgame-with-us-6-2-2/2025-11-20/
LOCATION:Fond du Lac Tribal and Community College\, 2101 14th Street\, Cloquet\, MN\, 55720\, United States
ORGANIZER;CN="Fond du Lac Tribal and Community College":MAILTO:taylor.warnes@fdltcc.edu
END:VEVENT
BEGIN:VEVENT
DTSTART;TZID=America/Chicago:20251121T170000
DTEND;TZID=America/Chicago:20251122T160000
DTSTAMP:20260423T151515
CREATED:20231102T155405Z
LAST-MODIFIED:20251121T150723Z
UID:10000193-1763744400-1763827200@fdltcc.edu
SUMMARY:13 Moons Cultural Gathering
DESCRIPTION:Join us for the 13 Moons Cultural Gathering\, November 21 and 22\, 2025. The two-day event will include storytelling and a wide variety of workshops including beaded earrings\, moss bags\, yoga class\, medicine pouches\, and wreath making. \nThis great event is free and open to the public. \nDates:\nFriday\, November 21\nMeal\, 5:00pm\nStorytelling\, 6:00pm – 8:00pm \nSaturday\, November 22\nWorkshops\, 9:00am – 4:00pm\nLunch\, 12:00pm \nSaturday Agenda:\n9:00am \n\nMoss Bags with Wendy Savage\nBeaded Earrings with Tracy Shaw\n\n12:00pm \n\nLunch\n\n1:00pm \n\nWreath Making with Lurinda Defoe\nMedicine Puch’s with Joyce Laporte\nMoose Bone Needles with Dylan Savage\nYoga with Caitlyn’s Creations
URL:https://fdltcc.edu/event/13-moons-cultural-gathering/
LOCATION:Fond du Lac Tribal and Community College\, 2101 14th Street\, Cloquet\, MN\, 55720\, United States
CATEGORIES:Environmental Institute
ORGANIZER;CN="Fond du Lac Tribal and Community College":MAILTO:taylor.warnes@fdltcc.edu
END:VEVENT
BEGIN:VEVENT
DTSTART;TZID=America/Chicago:20251124T180000
DTEND;TZID=America/Chicago:20251124T200000
DTSTAMP:20260423T151515
CREATED:20250912T173726Z
LAST-MODIFIED:20250912T173726Z
UID:10000645-1764007200-1764014400@fdltcc.edu
SUMMARY:Hand Drumming with Oshkii Giizhik
DESCRIPTION:Join us for Hand Drumming with Oshkii Giizhik at FDLTCC.\nMondays starting at 6pm in the Ojibwemowining Resource Center at Fond du Lac Tribal and Community College. \nDates: Mondays\nTime: 6:00pm – 8:00pm\nLocation: Ojibwemowining Resource Center\, FDLTCC \nOpen to the public.
URL:https://fdltcc.edu/event/hand-drumming-with-oshkii-giizhik-9/2025-11-24/
LOCATION:Fond du Lac Tribal and Community College\, 2101 14th Street\, Cloquet\, MN\, 55720\, United States
ORGANIZER;CN="Fond du Lac Tribal and Community College":MAILTO:taylor.warnes@fdltcc.edu
END:VEVENT
BEGIN:VEVENT
DTSTART;TZID=America/Chicago:20251125T100000
DTEND;TZID=America/Chicago:20251125T160000
DTSTAMP:20260423T151515
CREATED:20231115T182608Z
LAST-MODIFIED:20251113T224429Z
UID:10000200-1764064800-1764086400@fdltcc.edu
SUMMARY:Bake Sale Fundraiser - FDLTCC Human Services Club
DESCRIPTION:Join us Tuesday\, November 25\, for a delicious bake sale hosted by the FDLTCC Human Services Club. All proceeds will support the 2025 Holiday Celebration. \nDate: November 25\nTime: 10:00 AM – 4:00 PM\nLocation: FDLTCC Commons \n 
URL:https://fdltcc.edu/event/bake-sale-hosted-by-the-human-services-club/
LOCATION:Fond du Lac Tribal and Community College\, 2101 14th Street\, Cloquet\, MN\, 55720\, United States
ORGANIZER;CN="Fond du Lac Tribal and Community College":MAILTO:taylor.warnes@fdltcc.edu
END:VEVENT
BEGIN:VEVENT
DTSTART;TZID=America/Chicago:20251201T180000
DTEND;TZID=America/Chicago:20251201T200000
DTSTAMP:20260423T151515
CREATED:20250912T173726Z
LAST-MODIFIED:20250912T173726Z
UID:10000646-1764612000-1764619200@fdltcc.edu
SUMMARY:Hand Drumming with Oshkii Giizhik
DESCRIPTION:Join us for Hand Drumming with Oshkii Giizhik at FDLTCC.\nMondays starting at 6pm in the Ojibwemowining Resource Center at Fond du Lac Tribal and Community College. \nDates: Mondays\nTime: 6:00pm – 8:00pm\nLocation: Ojibwemowining Resource Center\, FDLTCC \nOpen to the public.
URL:https://fdltcc.edu/event/hand-drumming-with-oshkii-giizhik-9/2025-12-01/
LOCATION:Fond du Lac Tribal and Community College\, 2101 14th Street\, Cloquet\, MN\, 55720\, United States
ORGANIZER;CN="Fond du Lac Tribal and Community College":MAILTO:taylor.warnes@fdltcc.edu
END:VEVENT
BEGIN:VEVENT
DTSTART;TZID=America/Chicago:20251202T173000
DTEND;TZID=America/Chicago:20251202T193000
DTSTAMP:20260423T151515
CREATED:20251112T213916Z
LAST-MODIFIED:20251112T213916Z
UID:10000693-1764696600-1764703800@fdltcc.edu
SUMMARY:Poetry Slam
DESCRIPTION:Come and get inspired\, share your writing\, and enjoy some snacks with Poetry Slam events at FDLTCC! These events are free and open to the community. \nDates: \n\nDecember 2\, 2025\nFebruary 3\, 2026\nMarch 2\, 2026\nApril 6\, 2026\n\nTime: 5:30pm – 7:30pm \nLocation: Ruth A. Myers Library\, FDLTCC \nQuestions: oliviahaman*AT*s.fdltcc.edu \n 
URL:https://fdltcc.edu/event/poetry-slam/2025-12-02/
LOCATION:Fond du Lac Tribal and Community College\, 2101 14th Street\, Cloquet\, MN\, 55720\, United States
CATEGORIES:Ruth A. Myers Library
ORGANIZER;CN="Fond du Lac Tribal and Community College":MAILTO:taylor.warnes@fdltcc.edu
END:VEVENT
BEGIN:VEVENT
DTSTART;TZID=America/Chicago:20251204T170000
DTEND;TZID=America/Chicago:20251204T190000
DTSTAMP:20260423T151515
CREATED:20251122T185939Z
LAST-MODIFIED:20251216T175107Z
UID:10000698-1764867600-1764874800@fdltcc.edu
SUMMARY:FDLTCC Community Drum Practice
DESCRIPTION:Baaga’akokwedaa. Minotaagozi. \nJoin us for the FDLTCC Community Drum Practice\, Thursday evenings in the FDLTCC Commons. Come and sing\, come and listen\, come and hang out. \nQuestions: Blair Powless\, blair.powless*AT*fdltcc.edu \nDates: Thursdays\nTime: 5:00pm – 7:00pm\nLocation: FDLTCC Commons
URL:https://fdltcc.edu/event/fdltcc-community-drum-practice/2025-12-04/
LOCATION:Fond du Lac Tribal and Community College\, 2101 14th Street\, Cloquet\, MN\, 55720\, United States
ORGANIZER;CN="Fond du Lac Tribal and Community College":MAILTO:taylor.warnes@fdltcc.edu
END:VEVENT
BEGIN:VEVENT
DTSTART;TZID=America/Chicago:20251204T170000
DTEND;TZID=America/Chicago:20251204T200000
DTSTAMP:20260423T151515
CREATED:20251021T192646Z
LAST-MODIFIED:20251218T212723Z
UID:10000667-1764867600-1764878400@fdltcc.edu
SUMMARY:Gigibaaga'adowewin "Carrying the Stickgame with us"
DESCRIPTION:Join the Fond du Lac Language Program and FDLTCC for Gigibaaga’adowewin “Carrying the Stickgame with us” every Thursday at FDLTCC! \nDates: Thursdays\nTimes: 5pm-8pm \nEveryone is welcome! \nFDLTCC Gymnasium\, 2101 14th Street Cloquet\, MN 55720 \nBaaga’adowewin skills\, language\, & games! \nDinner is provided \n*Children must be accompanied by an adult \nContact Naawakwe 218-878-8170\nwilliamhowesiii*AT*fdlband.org
URL:https://fdltcc.edu/event/gigibaagaadowewin-carrying-the-stickgame-with-us-6-2-2/2025-12-04/
LOCATION:Fond du Lac Tribal and Community College\, 2101 14th Street\, Cloquet\, MN\, 55720\, United States
ORGANIZER;CN="Fond du Lac Tribal and Community College":MAILTO:taylor.warnes@fdltcc.edu
END:VEVENT
BEGIN:VEVENT
DTSTART;TZID=America/Chicago:20251205T130000
DTEND;TZID=America/Chicago:20251205T140000
DTSTAMP:20260423T151515
CREATED:20251121T153623Z
LAST-MODIFIED:20251203T161112Z
UID:10000697-1764939600-1764943200@fdltcc.edu
SUMMARY:Honoring Our Veterans - Coffee Hour
DESCRIPTION:Join us for coffee and light refreshments to honor community members who are military veterans or are currently on active duty. This event is free and open to the public. \nQuestions: Ariel Johnson\, ariel.johnson*AT*fdltcc.edu \nLearn about Veterans Resources at FDLTCC
URL:https://fdltcc.edu/event/honoring-out-veterans-coffee-hour/
LOCATION:Fond du Lac Tribal and Community College\, 2101 14th Street\, Cloquet\, MN\, 55720\, United States
ORGANIZER;CN="Fond du Lac Tribal and Community College":MAILTO:taylor.warnes@fdltcc.edu
END:VEVENT
BEGIN:VEVENT
DTSTART;TZID=America/Chicago:20251208T173000
DTEND;TZID=America/Chicago:20251208T190000
DTSTAMP:20260423T151515
CREATED:20241108T162916Z
LAST-MODIFIED:20251202T210231Z
UID:10000519-1765215000-1765220400@fdltcc.edu
SUMMARY:FDLTCC Holiday Choir Concert
DESCRIPTION:Join us for a evening of beautiful music with the FDLTCC Concert Choir in our amphitheater! \nDate: Monday\, December 8\nTime: 5:30pm\nLocation: FDLTCC Amphitheater \nGloria by Antonio Vivaldi with Parick Russell\, piano \nAll performed by the combined choirs of Fond du Lac Tribal and Community College & Lake Superior College \nFollowed by a private music student showcase \nFollowed by Holiday selections as performed by The Trans-Siberian Orchestra
URL:https://fdltcc.edu/event/fdltcc-holiday-choir-concert/
LOCATION:Fond du Lac Tribal and Community College\, 2101 14th Street\, Cloquet\, MN\, 55720\, United States
ORGANIZER;CN="Fond du Lac Tribal and Community College":MAILTO:taylor.warnes@fdltcc.edu
END:VEVENT
BEGIN:VEVENT
DTSTART;TZID=America/Chicago:20251208T180000
DTEND;TZID=America/Chicago:20251208T200000
DTSTAMP:20260423T151515
CREATED:20250912T173726Z
LAST-MODIFIED:20250912T173726Z
UID:10000647-1765216800-1765224000@fdltcc.edu
SUMMARY:Hand Drumming with Oshkii Giizhik
DESCRIPTION:Join us for Hand Drumming with Oshkii Giizhik at FDLTCC.\nMondays starting at 6pm in the Ojibwemowining Resource Center at Fond du Lac Tribal and Community College. \nDates: Mondays\nTime: 6:00pm – 8:00pm\nLocation: Ojibwemowining Resource Center\, FDLTCC \nOpen to the public.
URL:https://fdltcc.edu/event/hand-drumming-with-oshkii-giizhik-9/2025-12-08/
LOCATION:Fond du Lac Tribal and Community College\, 2101 14th Street\, Cloquet\, MN\, 55720\, United States
ORGANIZER;CN="Fond du Lac Tribal and Community College":MAILTO:taylor.warnes@fdltcc.edu
END:VEVENT
BEGIN:VEVENT
DTSTART;TZID=America/Chicago:20251211T170000
DTEND;TZID=America/Chicago:20251211T190000
DTSTAMP:20260423T151515
CREATED:20251122T185939Z
LAST-MODIFIED:20251216T175107Z
UID:10000699-1765472400-1765479600@fdltcc.edu
SUMMARY:FDLTCC Community Drum Practice
DESCRIPTION:Baaga’akokwedaa. Minotaagozi. \nJoin us for the FDLTCC Community Drum Practice\, Thursday evenings in the FDLTCC Commons. Come and sing\, come and listen\, come and hang out. \nQuestions: Blair Powless\, blair.powless*AT*fdltcc.edu \nDates: Thursdays\nTime: 5:00pm – 7:00pm\nLocation: FDLTCC Commons
URL:https://fdltcc.edu/event/fdltcc-community-drum-practice/2025-12-11/
LOCATION:Fond du Lac Tribal and Community College\, 2101 14th Street\, Cloquet\, MN\, 55720\, United States
ORGANIZER;CN="Fond du Lac Tribal and Community College":MAILTO:taylor.warnes@fdltcc.edu
END:VEVENT
BEGIN:VEVENT
DTSTART;TZID=America/Chicago:20251211T170000
DTEND;TZID=America/Chicago:20251211T200000
DTSTAMP:20260423T151515
CREATED:20251021T192646Z
LAST-MODIFIED:20251218T212723Z
UID:10000668-1765472400-1765483200@fdltcc.edu
SUMMARY:Gigibaaga'adowewin "Carrying the Stickgame with us"
DESCRIPTION:Join the Fond du Lac Language Program and FDLTCC for Gigibaaga’adowewin “Carrying the Stickgame with us” every Thursday at FDLTCC! \nDates: Thursdays\nTimes: 5pm-8pm \nEveryone is welcome! \nFDLTCC Gymnasium\, 2101 14th Street Cloquet\, MN 55720 \nBaaga’adowewin skills\, language\, & games! \nDinner is provided \n*Children must be accompanied by an adult \nContact Naawakwe 218-878-8170\nwilliamhowesiii*AT*fdlband.org
URL:https://fdltcc.edu/event/gigibaagaadowewin-carrying-the-stickgame-with-us-6-2-2/2025-12-11/
LOCATION:Fond du Lac Tribal and Community College\, 2101 14th Street\, Cloquet\, MN\, 55720\, United States
ORGANIZER;CN="Fond du Lac Tribal and Community College":MAILTO:taylor.warnes@fdltcc.edu
END:VEVENT
BEGIN:VEVENT
DTSTART;TZID=America/Chicago:20251212T173000
DTEND;TZID=America/Chicago:20251212T193000
DTSTAMP:20260423T151515
CREATED:20230127T225133Z
LAST-MODIFIED:20251204T170321Z
UID:10000037-1765560600-1765567800@fdltcc.edu
SUMMARY:Holiday Celebration
DESCRIPTION:Celebrate the holiday season with the 2025 Holiday Celebration hosted by the fantastic FDLTCC Human Services Club! The event will include food\, games\, drawings and so much more. Plus\, every child will receive a gift from Santa! \nDate: Friday\, December 12\nTime: 5:30pm – 7:30pm\nLocation: FDLTCC Commons \n 
URL:https://fdltcc.edu/event/holiday-celebration/
LOCATION:Fond du Lac Tribal and Community College\, 2101 14th Street\, Cloquet\, MN\, 55720\, United States
ORGANIZER;CN="Fond du Lac Tribal and Community College":MAILTO:taylor.warnes@fdltcc.edu
END:VEVENT
BEGIN:VEVENT
DTSTART;TZID=America/Chicago:20251215T180000
DTEND;TZID=America/Chicago:20251215T200000
DTSTAMP:20260423T151515
CREATED:20250912T173726Z
LAST-MODIFIED:20250912T173726Z
UID:10000648-1765821600-1765828800@fdltcc.edu
SUMMARY:Hand Drumming with Oshkii Giizhik
DESCRIPTION:Join us for Hand Drumming with Oshkii Giizhik at FDLTCC.\nMondays starting at 6pm in the Ojibwemowining Resource Center at Fond du Lac Tribal and Community College. \nDates: Mondays\nTime: 6:00pm – 8:00pm\nLocation: Ojibwemowining Resource Center\, FDLTCC \nOpen to the public.
URL:https://fdltcc.edu/event/hand-drumming-with-oshkii-giizhik-9/2025-12-15/
LOCATION:Fond du Lac Tribal and Community College\, 2101 14th Street\, Cloquet\, MN\, 55720\, United States
ORGANIZER;CN="Fond du Lac Tribal and Community College":MAILTO:taylor.warnes@fdltcc.edu
END:VEVENT
BEGIN:VEVENT
DTSTART;TZID=America/Chicago:20251218T170000
DTEND;TZID=America/Chicago:20251218T190000
DTSTAMP:20260423T151515
CREATED:20251122T185939Z
LAST-MODIFIED:20251216T175107Z
UID:10000700-1766077200-1766084400@fdltcc.edu
SUMMARY:FDLTCC Community Drum Practice
DESCRIPTION:Baaga’akokwedaa. Minotaagozi. \nJoin us for the FDLTCC Community Drum Practice\, Thursday evenings in the FDLTCC Commons. Come and sing\, come and listen\, come and hang out. \nQuestions: Blair Powless\, blair.powless*AT*fdltcc.edu \nDates: Thursdays\nTime: 5:00pm – 7:00pm\nLocation: FDLTCC Commons
URL:https://fdltcc.edu/event/fdltcc-community-drum-practice/2025-12-18/
LOCATION:Fond du Lac Tribal and Community College\, 2101 14th Street\, Cloquet\, MN\, 55720\, United States
ORGANIZER;CN="Fond du Lac Tribal and Community College":MAILTO:taylor.warnes@fdltcc.edu
END:VEVENT
BEGIN:VEVENT
DTSTART;TZID=America/Chicago:20251219T170000
DTEND;TZID=America/Chicago:20251219T200000
DTSTAMP:20260423T151515
CREATED:20251210T192152Z
LAST-MODIFIED:20251210T192943Z
UID:10000719-1766163600-1766174400@fdltcc.edu
SUMMARY:FDLTCC Live: Unorthodox
DESCRIPTION:Release your inner zombie with FDLTCC multimedia production students at FDLTCC Live: Unorthodox. \nHear feral Christmas music & take part in a short film made by FDLTCC Multimedia Production students and join us for an open mic following filming. \nDate: Friday\, December 19\nLocation: FDLTCC Commons\nSchedule: \n\nFilming: 5:00pm\nOpen Mic: 6:00pm\n\nQuestions: jeremy.gardner*AT*fdltcc.edu
URL:https://fdltcc.edu/event/fdltcc-live-unorthodox/
LOCATION:Fond du Lac Tribal and Community College\, 2101 14th Street\, Cloquet\, MN\, 55720\, United States
CATEGORIES:ODAS
ORGANIZER;CN="Fond du Lac Tribal and Community College":MAILTO:taylor.warnes@fdltcc.edu
END:VEVENT
BEGIN:VEVENT
DTSTART;TZID=America/Chicago:20251222T180000
DTEND;TZID=America/Chicago:20251222T200000
DTSTAMP:20260423T151515
CREATED:20250912T173726Z
LAST-MODIFIED:20250912T173726Z
UID:10000649-1766426400-1766433600@fdltcc.edu
SUMMARY:Hand Drumming with Oshkii Giizhik
DESCRIPTION:Join us for Hand Drumming with Oshkii Giizhik at FDLTCC.\nMondays starting at 6pm in the Ojibwemowining Resource Center at Fond du Lac Tribal and Community College. \nDates: Mondays\nTime: 6:00pm – 8:00pm\nLocation: Ojibwemowining Resource Center\, FDLTCC \nOpen to the public.
URL:https://fdltcc.edu/event/hand-drumming-with-oshkii-giizhik-9/2025-12-22/
LOCATION:Fond du Lac Tribal and Community College\, 2101 14th Street\, Cloquet\, MN\, 55720\, United States
ORGANIZER;CN="Fond du Lac Tribal and Community College":MAILTO:taylor.warnes@fdltcc.edu
END:VEVENT
BEGIN:VEVENT
DTSTART;TZID=America/Chicago:20251229T180000
DTEND;TZID=America/Chicago:20251229T200000
DTSTAMP:20260423T151515
CREATED:20250912T173726Z
LAST-MODIFIED:20250912T173726Z
UID:10000650-1767031200-1767038400@fdltcc.edu
SUMMARY:Hand Drumming with Oshkii Giizhik
DESCRIPTION:Join us for Hand Drumming with Oshkii Giizhik at FDLTCC.\nMondays starting at 6pm in the Ojibwemowining Resource Center at Fond du Lac Tribal and Community College. \nDates: Mondays\nTime: 6:00pm – 8:00pm\nLocation: Ojibwemowining Resource Center\, FDLTCC \nOpen to the public.
URL:https://fdltcc.edu/event/hand-drumming-with-oshkii-giizhik-9/2025-12-29/
LOCATION:Fond du Lac Tribal and Community College\, 2101 14th Street\, Cloquet\, MN\, 55720\, United States
ORGANIZER;CN="Fond du Lac Tribal and Community College":MAILTO:taylor.warnes@fdltcc.edu
END:VEVENT
BEGIN:VEVENT
DTSTART;TZID=America/Chicago:20260105T180000
DTEND;TZID=America/Chicago:20260105T200000
DTSTAMP:20260423T151515
CREATED:20250912T173726Z
LAST-MODIFIED:20250912T173726Z
UID:10000651-1767636000-1767643200@fdltcc.edu
SUMMARY:Hand Drumming with Oshkii Giizhik
DESCRIPTION:Join us for Hand Drumming with Oshkii Giizhik at FDLTCC.\nMondays starting at 6pm in the Ojibwemowining Resource Center at Fond du Lac Tribal and Community College. \nDates: Mondays\nTime: 6:00pm – 8:00pm\nLocation: Ojibwemowining Resource Center\, FDLTCC \nOpen to the public.
URL:https://fdltcc.edu/event/hand-drumming-with-oshkii-giizhik-9/2026-01-05/
LOCATION:Fond du Lac Tribal and Community College\, 2101 14th Street\, Cloquet\, MN\, 55720\, United States
ORGANIZER;CN="Fond du Lac Tribal and Community College":MAILTO:taylor.warnes@fdltcc.edu
END:VEVENT
BEGIN:VEVENT
DTSTART;TZID=America/Chicago:20260108T170000
DTEND;TZID=America/Chicago:20260108T190000
DTSTAMP:20260423T151515
CREATED:20251122T185939Z
LAST-MODIFIED:20251216T175107Z
UID:10000701-1767891600-1767898800@fdltcc.edu
SUMMARY:FDLTCC Community Drum Practice
DESCRIPTION:Baaga’akokwedaa. Minotaagozi. \nJoin us for the FDLTCC Community Drum Practice\, Thursday evenings in the FDLTCC Commons. Come and sing\, come and listen\, come and hang out. \nQuestions: Blair Powless\, blair.powless*AT*fdltcc.edu \nDates: Thursdays\nTime: 5:00pm – 7:00pm\nLocation: FDLTCC Commons
URL:https://fdltcc.edu/event/fdltcc-community-drum-practice/2026-01-08/
LOCATION:Fond du Lac Tribal and Community College\, 2101 14th Street\, Cloquet\, MN\, 55720\, United States
ORGANIZER;CN="Fond du Lac Tribal and Community College":MAILTO:taylor.warnes@fdltcc.edu
END:VEVENT
BEGIN:VEVENT
DTSTART;TZID=America/Chicago:20260108T170000
DTEND;TZID=America/Chicago:20260108T200000
DTSTAMP:20260423T151515
CREATED:20251021T192646Z
LAST-MODIFIED:20251218T212723Z
UID:10000670-1767891600-1767902400@fdltcc.edu
SUMMARY:Gigibaaga'adowewin "Carrying the Stickgame with us"
DESCRIPTION:Join the Fond du Lac Language Program and FDLTCC for Gigibaaga’adowewin “Carrying the Stickgame with us” every Thursday at FDLTCC! \nDates: Thursdays\nTimes: 5pm-8pm \nEveryone is welcome! \nFDLTCC Gymnasium\, 2101 14th Street Cloquet\, MN 55720 \nBaaga’adowewin skills\, language\, & games! \nDinner is provided \n*Children must be accompanied by an adult \nContact Naawakwe 218-878-8170\nwilliamhowesiii*AT*fdlband.org
URL:https://fdltcc.edu/event/gigibaagaadowewin-carrying-the-stickgame-with-us-6-2-2/2026-01-08/
LOCATION:Fond du Lac Tribal and Community College\, 2101 14th Street\, Cloquet\, MN\, 55720\, United States
ORGANIZER;CN="Fond du Lac Tribal and Community College":MAILTO:taylor.warnes@fdltcc.edu
END:VEVENT
BEGIN:VEVENT
DTSTART;TZID=America/Chicago:20260112T180000
DTEND;TZID=America/Chicago:20260112T200000
DTSTAMP:20260423T151515
CREATED:20250912T173726Z
LAST-MODIFIED:20250912T173726Z
UID:10000652-1768240800-1768248000@fdltcc.edu
SUMMARY:Hand Drumming with Oshkii Giizhik
DESCRIPTION:Join us for Hand Drumming with Oshkii Giizhik at FDLTCC.\nMondays starting at 6pm in the Ojibwemowining Resource Center at Fond du Lac Tribal and Community College. \nDates: Mondays\nTime: 6:00pm – 8:00pm\nLocation: Ojibwemowining Resource Center\, FDLTCC \nOpen to the public.
URL:https://fdltcc.edu/event/hand-drumming-with-oshkii-giizhik-9/2026-01-12/
LOCATION:Fond du Lac Tribal and Community College\, 2101 14th Street\, Cloquet\, MN\, 55720\, United States
ORGANIZER;CN="Fond du Lac Tribal and Community College":MAILTO:taylor.warnes@fdltcc.edu
END:VEVENT
BEGIN:VEVENT
DTSTART;TZID=America/Chicago:20260115T163000
DTEND;TZID=America/Chicago:20260115T190000
DTSTAMP:20260423T151515
CREATED:20240715T152037Z
LAST-MODIFIED:20251210T164128Z
UID:10000331-1768494600-1768503600@fdltcc.edu
SUMMARY:Food for Thought
DESCRIPTION:Join the FDLTCC Foundation for a fun evening benefiting FDLTCC student scholarships on Thursday\, January 15\, for the annual Food for Thought – A Tasting Event. Food for Thought is a fundraising evening of beverage and food tasting that benefits student scholarships. \nDiscover Food for Thought – A Tasting Event \nLearn about the FDLTCC Foundation \nExplore Giving Opportunities with the FDLTCC Foundation
URL:https://fdltcc.edu/event/food-for-thought/
LOCATION:Fond du Lac Tribal and Community College\, 2101 14th Street\, Cloquet\, MN\, 55720\, United States
ORGANIZER;CN="Fond du Lac Tribal and Community College Foundation":MAILTO:taylor.warnes@fdltcc.edu
END:VEVENT
END:VCALENDAR