
BEGIN:VCALENDAR
VERSION:2.0
PRODID:-//Fond du Lac Tribal and Community College - ECPv6.15.20//NONSGML v1.0//EN
CALSCALE:GREGORIAN
METHOD:PUBLISH
X-WR-CALNAME:Fond du Lac Tribal and Community College
X-ORIGINAL-URL:https://fdltcc.edu
X-WR-CALDESC:Events for Fond du Lac Tribal and Community College
REFRESH-INTERVAL;VALUE=DURATION:PT1H
X-Robots-Tag:noindex
X-PUBLISHED-TTL:PT1H
BEGIN:VTIMEZONE
TZID:America/Chicago
BEGIN:DAYLIGHT
TZOFFSETFROM:-0600
TZOFFSETTO:-0500
TZNAME:CDT
DTSTART:20230312T080000
END:DAYLIGHT
BEGIN:STANDARD
TZOFFSETFROM:-0500
TZOFFSETTO:-0600
TZNAME:CST
DTSTART:20231105T070000
END:STANDARD
BEGIN:DAYLIGHT
TZOFFSETFROM:-0600
TZOFFSETTO:-0500
TZNAME:CDT
DTSTART:20240310T080000
END:DAYLIGHT
BEGIN:STANDARD
TZOFFSETFROM:-0500
TZOFFSETTO:-0600
TZNAME:CST
DTSTART:20241103T070000
END:STANDARD
BEGIN:DAYLIGHT
TZOFFSETFROM:-0600
TZOFFSETTO:-0500
TZNAME:CDT
DTSTART:20250309T080000
END:DAYLIGHT
BEGIN:STANDARD
TZOFFSETFROM:-0500
TZOFFSETTO:-0600
TZNAME:CST
DTSTART:20251102T070000
END:STANDARD
END:VTIMEZONE
BEGIN:VEVENT
DTSTART;TZID=America/Chicago:20240307T170000
DTEND;TZID=America/Chicago:20240307T190000
DTSTAMP:20260423T063407
CREATED:20240125T223726Z
LAST-MODIFIED:20240125T223726Z
UID:10000292-1709830800-1709838000@fdltcc.edu
SUMMARY:Gigibaaga'adowewin "Carrying the Stickgame with us"
DESCRIPTION:Join the Fond du Lac Language Program and FDLTCC for baaga’adowewin (traditional stick lacrosse) Thursdays this winter. \nThursdays\n5pm – 7pm\nFDLTCC Gym \nFollow the Fond du Lac Language Program on Facebook
URL:https://fdltcc.edu/event/gigibaagaadowewin-carrying-the-stickgame-with-us-3/2024-03-07/
LOCATION:Fond du Lac Tribal and Community College\, 2101 14th Street\, Cloquet\, MN\, 55720\, United States
ORGANIZER;CN="Fond du Lac Tribal and Community College":MAILTO:taylor.warnes@fdltcc.edu
END:VEVENT
BEGIN:VEVENT
DTSTART;TZID=America/Chicago:20240309T080000
DTEND;TZID=America/Chicago:20240309T133000
DTSTAMP:20260423T063407
CREATED:20240210T162507Z
LAST-MODIFIED:20240301T231037Z
UID:10000301-1709971200-1709991000@fdltcc.edu
SUMMARY:Indigenous Wellness Gathering
DESCRIPTION:Join us for the Indigenous Wellness Gathering hosted by the FDLTCC Extension Program Bimaaji’idiwin Producer Training Program. The morning will include activities\, sessions speakers\, food\, and more! \nSaturday\, March 9\n8:00 AM – 1:30 PM\nFond du Lac Tribal and Community College \nRegister for the free event here: https://forms.gle/BUQ1Ch4iTCtHgk4G8 \nThe 2024 Indigenous Wellness Gathering will include a light breakfast\, baga’adowewin\, yoga\, massages\, chafts\, painting\, pow wow steps\, coloring and children’s activities \n11:30 a.m. – Plenary Speaker\, Denne Bex\,\nNourishing Our Future: The Power of Indigenous Foods in Sustaining Health\, Culture\, and Community\, Tumbleweed Nutrition \nLunch by Native Chef\, Brian Yazzie\, Intertribal Foodways \nInformation tables and vendors. \nFree and open to everyone. \nGreat for all ages! \nQuestions: erika.resendizalonso*AT*fdltcc.edu. \nIndigenous Wellness Gathering Flyer
URL:https://fdltcc.edu/event/indigenous-wellness-gathering/
LOCATION:Fond du Lac Tribal and Community College\, 2101 14th Street\, Cloquet\, MN\, 55720\, United States
ORGANIZER;CN="Fond du Lac Tribal and Community College":MAILTO:taylor.warnes@fdltcc.edu
END:VEVENT
BEGIN:VEVENT
DTSTART;TZID=America/Chicago:20240313T083000
DTEND;TZID=America/Chicago:20240313T113000
DTSTAMP:20260423T063407
CREATED:20231004T222838Z
LAST-MODIFIED:20231004T222838Z
UID:10000172-1710318600-1710329400@fdltcc.edu
SUMMARY:Career Awareness and College Fair 2024
DESCRIPTION:You are invited to visit our campus at any time\, and especially during a Campus Visit Day. Make your plans to visit and tour our campus on these special event days. \nCampus Visit Days are a great opportunity to meet in person our faculty\, program staff\, student services staff\, and current students. Come individually\, in a small group\, or with your class to learn more about Fond du Lac Tribal and Community College. It’s a fun experience on campus with hands-on activities\, plus it’s the perfect time to get your questions answered. \n2023-2024 Campus Visit Days\nWednesday\, October 25\, 2023\, 11:00 AM to 1:00 PM\nWednesday\, December 6\, 2023\, 5:00 PM to 7:00 PM\nWednesday\, February 7\, 2024\, 10:00 AM to 1:00 PM – Nursing and Healthcare Expo\nWednesday\, March 13\, 2024\, 8:30 AM to 11:30 AM – Career Awareness and College Fair\nWednesday\, April 17\, 2024\, 10:00 AM to 1:00 PM – Peace Officer & Criminal Justice Expo\nWednesday\, May 1\, 2024\, 11:00 AM to 1:00 PM\nFor more information\, contact our Admissions Office staff: \nJosh Cleveland\, 218-879-0817 or jcleveland*AT*fdltcc.edu\nAmanda Strapple\, 218-879-0808 or amanda.strapple*AT*fdltcc.edu
URL:https://fdltcc.edu/event/career-awareness-and-college-fair-2024/
LOCATION:Fond du Lac Tribal and Community College\, 2101 14th Street\, Cloquet\, MN\, 55720\, United States
ORGANIZER;CN="Fond du Lac Tribal and Community College":MAILTO:taylor.warnes@fdltcc.edu
END:VEVENT
BEGIN:VEVENT
DTSTART;TZID=America/Chicago:20240313T180000
DTEND;TZID=America/Chicago:20240313T200000
DTSTAMP:20260423T063407
CREATED:20240126T171626Z
LAST-MODIFIED:20240126T171626Z
UID:10000296-1710352800-1710360000@fdltcc.edu
SUMMARY:Hand Drumming with Oshkii Giizhik
DESCRIPTION:2nd and 4th Wednesdays starting at 6pm in the Ojibwemowining Resource Center at FDLTCC. \nDate: Wednesdays\nTime: 6:00pm – 8:00pm\nLocation: Ojibwemowining Resource Center \nOpen to the public.
URL:https://fdltcc.edu/event/hand-drumming-with-oshkii-giizhik-2/2024-03-13/
LOCATION:Fond du Lac Tribal and Community College\, 2101 14th Street\, Cloquet\, MN\, 55720\, United States
ORGANIZER;CN="Fond du Lac Tribal and Community College":MAILTO:taylor.warnes@fdltcc.edu
END:VEVENT
BEGIN:VEVENT
DTSTART;TZID=America/Chicago:20240314T170000
DTEND;TZID=America/Chicago:20240314T190000
DTSTAMP:20260423T063407
CREATED:20240322T211436Z
LAST-MODIFIED:20240322T211553Z
UID:10000293-1710435600-1710442800@fdltcc.edu
SUMMARY:Gigibaaga'adowewin "Carrying the Stickgame with us"
DESCRIPTION:Join the Fond du Lac Language Program and FDLTCC for baaga’adowewin (traditional stick lacrosse) Thursdays this winter. \nThursdays\n5pm – 7pm\nFDLTCC Gym \nFollow the Fond du Lac Language Program on Facebook
URL:https://fdltcc.edu/event/gigibaagaadowewin-carrying-the-stickgame-with-us-3-2/2024-03-14/
LOCATION:Fond du Lac Tribal and Community College\, 2101 14th Street\, Cloquet\, MN\, 55720\, United States
ORGANIZER;CN="Fond du Lac Tribal and Community College":MAILTO:taylor.warnes@fdltcc.edu
END:VEVENT
BEGIN:VEVENT
DTSTART;TZID=America/Chicago:20240321T170000
DTEND;TZID=America/Chicago:20240321T190000
DTSTAMP:20260423T063407
CREATED:20240322T211436Z
LAST-MODIFIED:20240322T211553Z
UID:10000310-1711040400-1711047600@fdltcc.edu
SUMMARY:Gigibaaga'adowewin "Carrying the Stickgame with us"
DESCRIPTION:Join the Fond du Lac Language Program and FDLTCC for baaga’adowewin (traditional stick lacrosse) Thursdays this winter. \nThursdays\n5pm – 7pm\nFDLTCC Gym \nFollow the Fond du Lac Language Program on Facebook
URL:https://fdltcc.edu/event/gigibaagaadowewin-carrying-the-stickgame-with-us-3-2/2024-03-21/
LOCATION:Fond du Lac Tribal and Community College\, 2101 14th Street\, Cloquet\, MN\, 55720\, United States
ORGANIZER;CN="Fond du Lac Tribal and Community College":MAILTO:taylor.warnes@fdltcc.edu
END:VEVENT
BEGIN:VEVENT
DTSTART;TZID=America/Chicago:20240327T100000
DTEND;TZID=America/Chicago:20240327T160000
DTSTAMP:20260423T063407
CREATED:20240320T205619Z
LAST-MODIFIED:20240320T205619Z
UID:10000308-1711533600-1711555200@fdltcc.edu
SUMMARY:Bake Sale
DESCRIPTION:Join the FDLTCC Human Services Club for a Bake Sale on Wednesday\, March 27. Proceeds will benefit the 2024 Holiday Celebration. \nDate: March 27\nTime: 10:00am – 4:00pm\nLocation: FDLTCC Commons
URL:https://fdltcc.edu/event/bake-sale/
LOCATION:Fond du Lac Tribal and Community College\, 2101 14th Street\, Cloquet\, MN\, 55720\, United States
ORGANIZER;CN="Fond du Lac Tribal and Community College":MAILTO:taylor.warnes@fdltcc.edu
END:VEVENT
BEGIN:VEVENT
DTSTART;TZID=America/Chicago:20240327T180000
DTEND;TZID=America/Chicago:20240327T200000
DTSTAMP:20260423T063407
CREATED:20240126T171626Z
LAST-MODIFIED:20240126T171626Z
UID:10000297-1711562400-1711569600@fdltcc.edu
SUMMARY:Hand Drumming with Oshkii Giizhik
DESCRIPTION:2nd and 4th Wednesdays starting at 6pm in the Ojibwemowining Resource Center at FDLTCC. \nDate: Wednesdays\nTime: 6:00pm – 8:00pm\nLocation: Ojibwemowining Resource Center \nOpen to the public.
URL:https://fdltcc.edu/event/hand-drumming-with-oshkii-giizhik-2/2024-03-27/
LOCATION:Fond du Lac Tribal and Community College\, 2101 14th Street\, Cloquet\, MN\, 55720\, United States
ORGANIZER;CN="Fond du Lac Tribal and Community College":MAILTO:taylor.warnes@fdltcc.edu
END:VEVENT
BEGIN:VEVENT
DTSTART;TZID=America/Chicago:20240328T170000
DTEND;TZID=America/Chicago:20240328T190000
DTSTAMP:20260423T063407
CREATED:20240322T211436Z
LAST-MODIFIED:20240322T211553Z
UID:10000311-1711645200-1711652400@fdltcc.edu
SUMMARY:Gigibaaga'adowewin "Carrying the Stickgame with us"
DESCRIPTION:Join the Fond du Lac Language Program and FDLTCC for baaga’adowewin (traditional stick lacrosse) Thursdays this winter. \nThursdays\n5pm – 7pm\nFDLTCC Gym \nFollow the Fond du Lac Language Program on Facebook
URL:https://fdltcc.edu/event/gigibaagaadowewin-carrying-the-stickgame-with-us-3-2/2024-03-28/
LOCATION:Fond du Lac Tribal and Community College\, 2101 14th Street\, Cloquet\, MN\, 55720\, United States
ORGANIZER;CN="Fond du Lac Tribal and Community College":MAILTO:taylor.warnes@fdltcc.edu
END:VEVENT
END:VCALENDAR